BEGIN:VCALENDAR
VERSION:2.0
PRODID:-//Etter Art Academy - ECPv6.15.18//NONSGML v1.0//EN
CALSCALE:GREGORIAN
METHOD:PUBLISH
X-WR-CALNAME:Etter Art Academy
X-ORIGINAL-URL:https://stefanieetter.de
X-WR-CALDESC:Veranstaltungen für Etter Art Academy
REFRESH-INTERVAL;VALUE=DURATION:PT1H
X-Robots-Tag:noindex
X-PUBLISHED-TTL:PT1H
BEGIN:VTIMEZONE
TZID:Europe/Berlin
BEGIN:DAYLIGHT
TZOFFSETFROM:+0100
TZOFFSETTO:+0200
TZNAME:CEST
DTSTART:20200329T010000
END:DAYLIGHT
BEGIN:STANDARD
TZOFFSETFROM:+0200
TZOFFSETTO:+0100
TZNAME:CET
DTSTART:20201025T010000
END:STANDARD
BEGIN:DAYLIGHT
TZOFFSETFROM:+0100
TZOFFSETTO:+0200
TZNAME:CEST
DTSTART:20210328T010000
END:DAYLIGHT
BEGIN:STANDARD
TZOFFSETFROM:+0200
TZOFFSETTO:+0100
TZNAME:CET
DTSTART:20211031T010000
END:STANDARD
BEGIN:DAYLIGHT
TZOFFSETFROM:+0100
TZOFFSETTO:+0200
TZNAME:CEST
DTSTART:20220327T010000
END:DAYLIGHT
BEGIN:STANDARD
TZOFFSETFROM:+0200
TZOFFSETTO:+0100
TZNAME:CET
DTSTART:20221030T010000
END:STANDARD
BEGIN:DAYLIGHT
TZOFFSETFROM:+0100
TZOFFSETTO:+0200
TZNAME:CEST
DTSTART:20230326T010000
END:DAYLIGHT
BEGIN:STANDARD
TZOFFSETFROM:+0200
TZOFFSETTO:+0100
TZNAME:CET
DTSTART:20231029T010000
END:STANDARD
BEGIN:DAYLIGHT
TZOFFSETFROM:+0100
TZOFFSETTO:+0200
TZNAME:CEST
DTSTART:20240331T010000
END:DAYLIGHT
BEGIN:STANDARD
TZOFFSETFROM:+0200
TZOFFSETTO:+0100
TZNAME:CET
DTSTART:20241027T010000
END:STANDARD
END:VTIMEZONE
BEGIN:VEVENT
DTSTART;TZID=Europe/Berlin:20230129T110000
DTEND;TZID=Europe/Berlin:20230129T140000
DTSTAMP:20260419T152425
CREATED:20230116T125642Z
LAST-MODIFIED:20230116T125642Z
UID:20422-1674990000-1675000800@stefanieetter.de
SUMMARY:Resin Basis Workshop
DESCRIPTION:Weitere Informationen zum Kurs finden Sie hier: \nZur Anmeldung
URL:https://stefanieetter.de/workshop/resin-basis-workshop-52/
LOCATION:Online Kurs\, Deutschland
CATEGORIES:Basisworkshop Resin,Online Workshop,Online-Kurs
ATTACH;FMTTYPE=image/jpeg:https://stefanieetter.de/wp-content/uploads/2021/04/Muster_2.jpg
END:VEVENT
BEGIN:VEVENT
DTSTART;TZID=Europe/Berlin:20220616T190000
DTEND;TZID=Europe/Berlin:20220616T220000
DTSTAMP:20260419T152425
CREATED:20220421T125818Z
LAST-MODIFIED:20220612T144731Z
UID:19962-1655406000-1655416800@stefanieetter.de
SUMMARY:Künstlerisches Gestalten mit Resin (ONLINE)
DESCRIPTION:Resin kennenlernen? Das geht auch ONLINE!  \nWir haben dafür ein  einzigartiges Format  entwickelt und geben dir eine Einführung in das faszinierende Thema  „Künstlerisches Gestalten mit Resin.“ \nEs wird erzählt\, erklärt und gezeigt\,  LIVE.  \n \n Professionelle Videos während dem Kurs \nMit  professionellen Videos \, die während des Onlinekurses  LIVE eingespielt  werden\, kannst du Stefanie dabei begleiten\, wie ihre  Resin-Kunstwerke entstehen . Du kannst dich zum Beispiel auf ein  realistisches Meeresbild  freuen\, dass über mehrere Schichten  in Echtzeit entsteht  und eines der beliebtesten Motive aus Stefanie’s Repertoire ist. Zudem gibt es natürlich viel Raum für den Austausch mit  Fragen und Anmerkungen .  \n \n Zeit für Fragen und Anmerkungen \nWas  wolltest du schon immer  über  Resin wissen ? Welches Resin wird für  welchen Zweck  eingesetzt? Wie sieht der  ideale Arbeitsplatz  aus? Wie kann ich mich auf  die Arbeit mit Resin  vorbereiten? Welche  Fehlerquellen entstehen  beim Arbeiten mit Resin? Wie funktioniert das  mehrschichtige Arbeiten ? Wie und womit  färbe  ich das Resin ein? Wie kann ich  kreative Effekte  mit meinem Material erzeugen? Diese und viele weitere Fragen werden im Onlinekurs „Künstlerisches Gestalten mit Resin“ von Stefanie beantwortet.  \n \n Den ganzen Kurs nochmal ansehen?! \nZusätzlich wird der  gesamte Onlinekurs aufgezeichnet  und steht nach Ende des Kurses Online  als Stream zur Verfügung . Das heißt du kannst dir den gesamten Kurs  noch einmal ansehen  und musst dir nicht alles auf einmal merken. Das Video unterstützt dich dabei\, deine Kunstwerke zu Hause mit wichtigem Wissen zu optimieren.\n\nAnfänger oder Fortgeschrittener?  Das spielt überhaupt keine Rolle . Halte unbedingt Stift und Papier bereit\, denn die aufbereiteten Informationen werden dich umhauen. Danach kannst du direkt  in die Welt des Resin eintauchen  und deine eigenen Resin-Kunstwerke kreieren.  \n \n Dein persönlicher Bonus \nAlle Teilnehmenden des Onlinekurses „Künstlerisches Gestalten mit Resin“\nerhalten zudem  10 % Rabatt auf das gesamte Etter Art Sortiment .\n\nWorauf wartest du noch?\nMelde dich jetzt an und sichere dir deinen Platz\nim wahrscheinlich  ersten Onlinekurs für kreatives Arbeiten mit Resin .  \n \n Organisatorisches: \nDatum: 09. Juni 2022\nDauer: 3 Stunden von 19.00 Uhr bis 22.00 Uhr\nVoraussetzungen: Keine\nKosten: 79\,- Euro
URL:https://stefanieetter.de/workshop/kuenstlerisches-gestalten-mit-resin-online/
LOCATION:Online Kurs\, Deutschland
CATEGORIES:Etter Art Academy,Online-Kurs
ATTACH;FMTTYPE=image/jpeg:https://stefanieetter.de/wp-content/uploads/2021/04/Muster_2.jpg
END:VEVENT
BEGIN:VEVENT
DTSTART;TZID=Europe/Berlin:20220316T180000
DTEND;TZID=Europe/Berlin:20220316T210000
DTSTAMP:20260419T152425
CREATED:20220110T111211Z
LAST-MODIFIED:20220312T112649Z
UID:19268-1647453600-1647464400@stefanieetter.de
SUMMARY:Künstlerisches Gestalten mit Resin\, Onlinekurs mit Stefanie Etter
DESCRIPTION:Zur Anmeldung
URL:https://stefanieetter.de/workshop/kuenstlerisches-gestalten-mit-resin-onlinekurs-mit-stefanie-etter-2/
LOCATION:Online Kurs\, Deutschland
CATEGORIES:Online-Kurs
ATTACH;FMTTYPE=image/jpeg:https://stefanieetter.de/wp-content/uploads/2021/04/Muster_2.jpg
END:VEVENT
BEGIN:VEVENT
DTSTART;TZID=Europe/Berlin:20211121T180000
DTEND;TZID=Europe/Berlin:20211121T210000
DTSTAMP:20260419T152425
CREATED:20210802T182352Z
LAST-MODIFIED:20210802T182352Z
UID:18880-1637517600-1637528400@stefanieetter.de
SUMMARY:Künstlerisches Gestalten mit Resin\, Onlinekurs mit Stefanie Etter
DESCRIPTION:Zur Anmeldung
URL:https://stefanieetter.de/workshop/kuenstlerisches-gestalten-mit-resin-onlinekurs-mit-stefanie-etter/
LOCATION:Online Kurs\, Deutschland
CATEGORIES:Online-Kurs
END:VEVENT
BEGIN:VEVENT
DTSTART;TZID=Europe/Berlin:20210627T180000
DTEND;TZID=Europe/Berlin:20210627T210000
DTSTAMP:20260419T152425
CREATED:20210528T071201Z
LAST-MODIFIED:20210529T051720Z
UID:18785-1624816800-1624827600@stefanieetter.de
SUMMARY:Künstlerisches Gestalten mit Resin - Online Workshop
DESCRIPTION:Weitere Informationen zum Kurs finden Sie hier: \nZur Anmeldung
URL:https://stefanieetter.de/workshop/kuenstlerisches-gestalten-mit-resin-online-workshop/
LOCATION:Online Kurs\, Deutschland
CATEGORIES:Extern,Online-Kurs,Stefanie Etter
ATTACH;FMTTYPE=image/jpeg:https://stefanieetter.de/wp-content/uploads/2021/04/Muster_2.jpg
ORGANIZER;CN="Boesner Leinfelden-Echterdingen":MAILTO:stuttgart@boesner.com
END:VEVENT
END:VCALENDAR