BEGIN:VCALENDAR
VERSION:2.0
PRODID:-//Etter Art Academy - ECPv6.15.18//NONSGML v1.0//EN
CALSCALE:GREGORIAN
METHOD:PUBLISH
X-ORIGINAL-URL:https://stefanieetter.de
X-WR-CALDESC:Veranstaltungen für Etter Art Academy
REFRESH-INTERVAL;VALUE=DURATION:PT1H
X-Robots-Tag:noindex
X-PUBLISHED-TTL:PT1H
BEGIN:VTIMEZONE
TZID:Europe/Berlin
BEGIN:DAYLIGHT
TZOFFSETFROM:+0100
TZOFFSETTO:+0200
TZNAME:CEST
DTSTART:20180325T010000
END:DAYLIGHT
BEGIN:STANDARD
TZOFFSETFROM:+0200
TZOFFSETTO:+0100
TZNAME:CET
DTSTART:20181028T010000
END:STANDARD
BEGIN:DAYLIGHT
TZOFFSETFROM:+0100
TZOFFSETTO:+0200
TZNAME:CEST
DTSTART:20190331T010000
END:DAYLIGHT
BEGIN:STANDARD
TZOFFSETFROM:+0200
TZOFFSETTO:+0100
TZNAME:CET
DTSTART:20191027T010000
END:STANDARD
BEGIN:DAYLIGHT
TZOFFSETFROM:+0100
TZOFFSETTO:+0200
TZNAME:CEST
DTSTART:20200329T010000
END:DAYLIGHT
BEGIN:STANDARD
TZOFFSETFROM:+0200
TZOFFSETTO:+0100
TZNAME:CET
DTSTART:20201025T010000
END:STANDARD
END:VTIMEZONE
BEGIN:VEVENT
DTSTART;TZID=Europe/Berlin:20191212T180000
DTEND;TZID=Europe/Berlin:20191212T210000
DTSTAMP:20260421T211104
CREATED:20191120T092528Z
LAST-MODIFIED:20191129T102114Z
UID:16832-1576173600-1576184400@stefanieetter.de
SUMMARY:Resin Schnupper Workshop
DESCRIPTION:Die Resin Kunst Akademie lädt ein: Resin Schnupper Workshop\n\n\nResin Kunst liegt total im Trend und immer mehr Menschen in Deutschland begeistern sich für das Arbeiten mit diesem Kunstharz. Völlig zu Recht\, finde ich – Resin ist ein faszinierendes Medium. Sind auch Sie neugierig darauf und möchten es gern kennenlernen? Dann lade ich Sie herzlich in die Resin Kunst Akademie zum Schnupperkurs ein. \nIm dreistündigen Workshop erfahren Sie zuerst einige Basics zum Thema Resin. Und dann wird es praktisch: Sie mischen Resin an\, färben es ein\, gießen und gestalten Ihr erstes Resin Bild! Ja\, richtig. Dieser Schnupperkurs ist ein Workshop mit einem sichtbaren Ergebnis: Ihrem individuellen\, wunderschönen Resin Kunstwerk. \nDafür benötigen Sie keine Vorkenntnisse und müssen auch keine Materialien mitbringen. Ein Notizblock und ein Stift sowie passende Arbeitskleidung reichen aus (bitte beachten Sie: Resin lässt sich nicht mehr von Kleidung entfernen). \nKommen Sie\, schnuppern Sie\, strahlen Sie. Um die Wette\, mit Resin\, das ist nämlich hochglänzend – und verführt ganz schnell zu mehr. Nutzen Sie diesen Schnupperkurs und finden Sie heraus\, ob auch Sie Teil der Resin Welt sein möchten. Ich freue mich auf Sie! \n\n\nMachen Sie Ihrer ersten Erfahrungen und lassen Sie sich begeistern\nThemen im Resin Schnupper Workshop: \n\n\n\n\nInformationen über Resin\nUmgang mit Resin während des Malens\nFarben und Zusätze mit denen Resin mischbar ist\nArbeiten mit Holzmalgrund\, 40 x 40 cm\n\n\n\n\n\n\n\nVoraussetzungen: Keine \nTeilnehmer: maximal 8 Personen\, der Kurs findet ab 4 Teilnehmer statt \nDauer: 3 Stunden 18:00-21:00 Uhr \nKosten: 99\,- Euro inklusive Material
URL:https://stefanieetter.de/workshop/resin-schnupper-workshop/
CATEGORIES:Stefanie Etter
ATTACH;FMTTYPE=image/jpeg:https://stefanieetter.de/wp-content/uploads/2018/08/resin-21.jpg
END:VEVENT
BEGIN:VEVENT
DTSTART;TZID=Europe/Berlin:20191207T100000
DTEND;TZID=Europe/Berlin:20191208T170000
DTSTAMP:20260421T211104
CREATED:20191025T111355Z
LAST-MODIFIED:20200116T074204Z
UID:16725-1575712800-1575824400@stefanieetter.de
SUMMARY:Resin Basis Workshop
DESCRIPTION:Abenteuer Resin – der Resin Basis Workshop intensiv 2 Tage\nSie wollen wissen\, was man mit Resin so alles machen kann? Dann kommen Sie in meinen Basis-Workshop. \nIch nehme Sie mit auf eine spannende Reise. In eine Welt\, die strahlt und glänzt. Eine Welt\, in der sich alles um dieses außergewöhnliche Medium dreht: Resin. Ein Kunstharz\, das so stark glänzt wie 40-facher Lack. \nSowohl in Theorie als auch in Praxis werden Sie erfahren und erleben\, was es bedeutet\, Bilder mit diesem wunderbaren Material zu gestalten. Sie lernen verschiedene Möglichkeiten der Anwendung und Nachbearbeitung kennen. Und natürlich dürfen Sie sich ausprobieren und gestalten Ihr ganz persönliches Kunstwerk. Ich gebe Ihnen die Basics an die Hand\, die Sie dafür benötigen. \nResin wird Sie überraschen\, begeistern – und nicht mehr loslassen. Überzeugen Sie sich selbst!\nThemen im Resin-Workshop Basis: \n\nInformationen über Vor- und Nachbereitung beim Arbeiten mit Resin\nUmgang mit Resin während des Malens\nVerschiedene Resin Arten\nFarben und Zusätze mit denen Resin mischbar ist\nUntergründe für die Arbeit mit Resin\nBild Nachbearbeitung wie beispielsweise das Schleifen oder Polieren\nVerschiedene Untergründe bis maximal 50 x 50 cm: Holz\, Leinwand\, Aluplatten\, Acrylglas\n\nVoraussetzungen: Keine \nTeilnehmer: maximal 8 Personen\, der Kurs findet ab 4 Teilnehmer statt \nDauer: 2 Tage; jeweils von 10:00-17:00 Uhr\, je eine Stunde Mittagspause nach Absprache kleines Frühstück\, Wasser und Kaffee sind inclusive. \nKosten: 290\,- Euro \nGegen eine Materialpauschale von 29\,- Euro können Sie über eine Auswahl an über 60 Farben\, Effektspray und sonstige Zusätze verfügen und ihre Kunstwerke gestalten. Natürlich können Sie auch Ihre Farben mitbringen. Außerdem erhalten Sie ein praktisches Handout vollgepackt mit meinen Tipps & Tricks für Zuhause. Resin erhalten Sie im Workshop vergünstigt. \nAchtung\, die Bilder benötigen 24 Stunden Trockenzeit. Bilder die am letzten Tag erstellt werden können zu einem späteren Zeitpunkt abgeholt werden. Außerdem besteht die Möglichkeit\, dass Ihnen Ihre Kunstwerke zugesandt werden. \nDownload der Materialliste für den Kurs.
URL:https://stefanieetter.de/workshop/resin-basis-workshop/
CATEGORIES:Stefanie Etter
ATTACH;FMTTYPE=image/jpeg:https://stefanieetter.de/wp-content/uploads/2019/09/ResinBasis2.jpg
END:VEVENT
BEGIN:VEVENT
DTSTART;TZID=Europe/Berlin:20191122T080000
DTEND;TZID=Europe/Berlin:20191123T170000
DTSTAMP:20260421T211104
CREATED:20191120T164043Z
LAST-MODIFIED:20200116T074020Z
UID:16913-1574409600-1574528400@stefanieetter.de
SUMMARY:Resin Basis Workshop
DESCRIPTION:Weitere Informationen zum Kurs gibt es hier: \nZur Anmeldung
URL:https://stefanieetter.de/workshop/resin-basis-workshop-5/
LOCATION:Farbenlaube Atelier Dornbirn\, J.G. Ulmer-Straße 6\, Dornbirn\, 6850\, Österreich
CATEGORIES:Extern,Stefanie Etter
ATTACH;FMTTYPE=image/jpeg:https://stefanieetter.de/wp-content/uploads/2019/09/ResinBasis2.jpg
END:VEVENT
BEGIN:VEVENT
DTSTART;TZID=Europe/Berlin:20191115T093000
DTEND;TZID=Europe/Berlin:20191117T123000
DTSTAMP:20260421T211104
CREATED:20191025T082708Z
LAST-MODIFIED:20200116T075120Z
UID:16663-1573810200-1573993800@stefanieetter.de
SUMMARY:Resin Kunst Handwerk in Perfektion! So entsteht ein Harztisch - Workshop
DESCRIPTION:Resin Kunst & Handwerk in Perfektion\nGanz neu und nur an der Resin Kunst Akademie in Schorndorf: der Resin Workshop\, in dem Sie lernen\, wie Sie sich einen Harztisch (oder: Resin Tisch) bauen können. Mit Norbert Mainka für die handwerklichen Schritte – und mir\, Stefanie Etter\, für das künstlerische Design. In diesem 2\,5-tägigen Workshop lernen Sie alles\, was Sie wissen müssen\, um eine Platte aus Holz und Resin zu gestalten. \nDas Handwerk für einen Harztisch\nLassen Sie sich vom Profi Norbert Mainka erklären\, worauf es beim Resin Tisch aus handwerklicher Sicht ankommt. Erst vermittelt er Ihnen die Theorie\, dann die Praxis. Wir starten mit der Form\, in die später die Vergussteile eingelegt werden. Jeder Workshop-Teilnehmer bekommt zum Üben einen Bausatz für eine kleine Form. Und Norbert Mainka zeigt Ihnen\, was wichtig ist: Unter seiner Anleitung bauen Sie die ca. 30 cm lange Muster-Form zusammen. So lernen Sie am besten\, wie Sie eine solche Form selbst anfertigen können. Zu einem späteren Zeitpunkt im Workshop geht es ums Schleifen und Polieren. Das ist ein großer Aspekt beim Arbeiten mit Holz und Resin. Sie werden nicht nur hören\, was zu beachten ist\, sondern auch selbst Hand anlegen. Und zwar an ein großes Objekt\, eine Tischplatte. In kleinen Gruppen von drei oder vier Teilnehmern wird jeder schleifen und polieren\, sodass Sie richtig fit darin werden. \nDie Gestaltung eines Harztisches\nSobald die Muster-Form fertig gebaut ist\, dürfen Sie gestalten. Auch ich starte mit der Theorie und sage Ihnen\, worauf Sie dabei achten sollten: Mit welchem Resin können Sie gut arbeiten? Wie gehen Sie mit der Tiefe der Form um? Wie erschaffen Sie ein tolles Design? Als erstes suchen Sie sich aus unserem Fundus Hölzer oder Holzstücke aus. Das sind die Vergussteile für die Platte. Nehmen Sie das\, was Ihnen am besten gefällt und was am besten zu Ihrer Design-Idee passt. Dann geht es ans Gießen. Dafür nutzen wir ein spezielles Kunstharz\, das extra für hohe Füllhöhen entwickelt wurde. Ob Sie dieses Resin klar nutzen oder einfärben\, bleibt Ihnen und Ihrer Kreativität überlassen. \nHarztisch bauen mit professioneller Unterstützung\nDank der Unterstützung von Norbert Mainka und mir werden Sie in der Lage sein\, sich selbst einen fantastischen Harztisch zu gestalten. Im Workshop üben Sie mit einer Muster-Form in kleinerem Maßstab. Alle Schritte\, die Sie bei und mit uns lernen\, können Sie dann zuhause auf eine größere Form und damit auf eine größere Platte übertragen. Und dürfen so vielleicht schon bald ein großartiges und individuelles Kunstwerk Ihr Eigen nennen. Ob das ein River Table wird\, ein Harztisch\, eine Küchenarbeitsplatte … das bestimmen Sie – möglich ist alles. Nutzen Sie diese tolle Möglichkeit\, gleich mit zwei Profis zu arbeiten: einem für das Handwerk und einem für das Design. \nTolles Extra: Gestalten Sie eine Holzbohle mit Kunstharz (Epoxidharz)\nSie werden nicht nur alles zum Thema Harztisch lernen können. Sie werden auch eine Holzbohle mit Resin gestalten. So eine Holzbohle ist eine weitere reizvolle Möglichkeit\, die beiden spannenden Materialien Holz und Harz miteinander zu vereinen. Dieser Part ist ideal\, um sich kreativ auszuprobieren. Welches Design möchten Sie gestalten? Und mit welchen Farben möchten Sie spielen? Ich berate und unterstütze Sie dabei\, sodass Sie am Ende des Workshops mit Ihrem selbst kreierten Designerstück nach Hause gehen werden.
URL:https://stefanieetter.de/workshop/resin-kunst-handwerk-in-perfektion-so-entsteht-ein-harztisch-workshop/
CATEGORIES:Stefanie Etter
ATTACH;FMTTYPE=image/jpeg:https://stefanieetter.de/wp-content/uploads/2020/01/Harztische.jpg
END:VEVENT
BEGIN:VEVENT
DTSTART;TZID=Europe/Berlin:20191101T130000
DTEND;TZID=Europe/Berlin:20191104T130000
DTSTAMP:20260421T211104
CREATED:20191025T071624Z
LAST-MODIFIED:20200116T080552Z
UID:16634-1572613200-1572872400@stefanieetter.de
SUMMARY:Haptik trifft Hochglanz – Workshop Struktur und Resin
DESCRIPTION:Kommen Sie mit mir auf eine fesselnde Kunst-Reise. Sie wird vielseitig und vielschichtig. Denn ich zeige Ihnen\, wie sich matte 3-D-Strukturen mit hochglänzendem Resin kombinieren lassen. \nUm die außergewöhnlichen Schichten für diese 3-D-Effekte hinzubekommen\, arbeiten wir mit verschiedenen Materialien: Resin und Spachtelmassen. Die Spachtelmassen stellen wir im Workshop sogar selbst her. Dazu nutzen wir Marmormehl\, Resi-CRETE\, Sumpfkalk oder Facettenlack und auch Kaffee und Sand. Das erzeugt phänomenale Strukturen in Ihren Bildern. \nSo werden Sie auf ganz praktische Art und Weise viel lernen: Sie gehen selbstbewusst mit den neuen Techniken um. Sie gehen mit viel Mut ans Erarbeiten Ihrer eigenen Bildkomposition. Und Sie tauchen ein in die wunderbare Welt des kreativen Ausdrucks. \nIch bin an Ihrer Seite und unterstütze Sie\, während Sie Ihre individuelle künstlerische Ausdrucksform entwickeln.\nThemen im Workshop Struktur und Resin: \n\nArbeiten in mehreren Schichten\nHerstellung eigener Spachtelmassen aus unterschiedlichsten Materialien\nBearbeiten der geschaffenen Strukturen mit z.B. Ölkreiden\nEinbinden von Effektsprays\nPouring mit farbigem\, klarem Resin und auch mit Füllstoffen versetztem Resin\n\nVoraussetzungen: Keine \nTeilnehmer: maximal 8 Personen \nDauer Tag 1: 1: 13:00 – 17:00 Uhr \nDauer Tag 2 & 3: 10:00 – 17:00 Uhr (1 Stunde Mittagspause) \nDauer Tag 4: 10:00 – 13:00  Uhr \nKosten: 459\,- Euro incl. Wasser/Kaffee und kleinem Frühstück\,  zzgl. Material \nResin erhalten Sie zu vergünstigten Konditionen. \nDer Kurs findet in der Resin Kunst Akademie in Schorndorf  Nähe Stuttgart statt.\nSehr gute Anbindung an die öffentlichen Verkehrsmittel.
URL:https://stefanieetter.de/workshop/haptik-trifft-hochglanz-workshop-struktur-und-resin/
ATTACH;FMTTYPE=image/jpeg:https://stefanieetter.de/wp-content/uploads/2019/09/ResinStruktur2.jpg
END:VEVENT
END:VCALENDAR