BEGIN:VCALENDAR
VERSION:2.0
PRODID:-//Etter Art Academy - ECPv6.15.18//NONSGML v1.0//EN
CALSCALE:GREGORIAN
METHOD:PUBLISH
X-WR-CALNAME:Etter Art Academy
X-ORIGINAL-URL:https://stefanieetter.de
X-WR-CALDESC:Veranstaltungen für Etter Art Academy
REFRESH-INTERVAL;VALUE=DURATION:PT1H
X-Robots-Tag:noindex
X-PUBLISHED-TTL:PT1H
BEGIN:VTIMEZONE
TZID:Europe/Berlin
BEGIN:DAYLIGHT
TZOFFSETFROM:+0100
TZOFFSETTO:+0200
TZNAME:CEST
DTSTART:20250330T010000
END:DAYLIGHT
BEGIN:STANDARD
TZOFFSETFROM:+0200
TZOFFSETTO:+0100
TZNAME:CET
DTSTART:20251026T010000
END:STANDARD
BEGIN:DAYLIGHT
TZOFFSETFROM:+0100
TZOFFSETTO:+0200
TZNAME:CEST
DTSTART:20260329T010000
END:DAYLIGHT
BEGIN:STANDARD
TZOFFSETFROM:+0200
TZOFFSETTO:+0100
TZNAME:CET
DTSTART:20261025T010000
END:STANDARD
BEGIN:DAYLIGHT
TZOFFSETFROM:+0100
TZOFFSETTO:+0200
TZNAME:CEST
DTSTART:20270328T010000
END:DAYLIGHT
BEGIN:STANDARD
TZOFFSETFROM:+0200
TZOFFSETTO:+0100
TZNAME:CET
DTSTART:20271031T010000
END:STANDARD
END:VTIMEZONE
BEGIN:VEVENT
DTSTART;TZID=Europe/Berlin:20261106T100000
DTEND;TZID=Europe/Berlin:20261107T170000
DTSTAMP:20260420T233352
CREATED:20251205T082243Z
LAST-MODIFIED:20251205T082243Z
UID:24568-1793959200-1794070800@stefanieetter.de
SUMMARY:Enkaustik und 3D – Eine Reise in die Welt der Wachsmalerei und Objektkunst - Workshop mit Ursi Lysser
DESCRIPTION:﻿﻿So beschreibt Ursi ihren Workshop: \nKursübersicht\nTauchen Sie ein in die faszinierende Welt der Enkaustik und kombinieren Sie diese traditionelle Wachsmaltechnik mit dem Experimentieren und Gestalten in 3D! Dieser Kurs bietet eine umfassende Einführung in die alte Kunst der Enkaustik und zeigt\, wie diese mit gefundenen Objekten wie Metall\, Holz\, Stoff und anderen Materialien zu dreidimensionalen Werken verbunden werden kann. Durch das Zusammenspiel von Farbe\, Textur und Form entstehen ausdrucksstarke\, haptische Kunstwerke mit einzigartigem Charakter. \n  \nWas ist Enkaustik?\nEnkaustik ist eine jahrtausendealte Technik\, bei der heisses Wachs mit Farbpigmenten vermischt und auf verschiedene Oberflächen aufgetragen wird. Diese Methode eröffnet nahezu grenzenlose Möglichkeiten\, mit Farbverläufen\, Transparenz und Texturen zu spielen. In Kombination mit Fundstücken und dreidimensionalen Elementen wird diese Technik neu interpretiert und in einen zeitgenössischen Kontext gesetzt. \nKursinhalte:\n\n Einführung in die Enkaustik-Technik\n\n  \nGeschichte der Enkaustik: Von der Antike bis zur Moderne.\nMaterialien und Werkzeuge: Wachs\, Pigmente\, Hitzequellen\, Malgründe.\nSicherheitsaspekte beim Arbeiten mit heissem Wachs.\nGrundlegende Techniken: Auftragen\, Schichten und Gravieren. \n  \n\n Erweiterung durch dreidimensionale Elemente\n\n  \nAuswahl geeigneter Fundstücke: Metall\, Holz\, Stoff\, Papier und Alltagsgegenstände.\nKombination von Wachs und Fundstücken: Techniken für Integration und Stabilität.\nAufbau von Strukturen und Reliefs durch das Einbetten und Schichten von Objekten. \n  \n\n Farb- und Texturgestaltung\n\nArbeiten mit Farbpigmenten: Transparenz\, Opazität und Farbverläufe.\nTexturen mit Werkzeugen und Objekten schaffen: Schaben\, Kratzen\, Eintauchen und Prägen. \n  \n\n Entwicklung individueller Kunstwerke\n\n  \nKonzeptentwicklung: Von der Idee zum fertigen Kunstwerk.\nKombination von abstrakten und figurativen Ansätzen.\nExperimentieren mit Komposition\, Materialmix und Kontrasten. \n  \n\n Abschluss und Reflexion\n\n \n \nPräsentation und Besprechung der entstandenen Werke.\nAustausch über Erfahrungen\, Herausforderungen und Erfolge.\nTipps für das eigenständige Arbeiten nach dem Kurs. \n  \nMethodik\nDer Kurs ist praxisorientiert gestaltet und bietet eine ausgewogene Mischung aus Theorie\, Demonstrationen und individuellem Arbeiten. Jede Einheit beginnt mit einer Einführung oder Demonstration\, gefolgt von ausreichend Zeit für praktische Übungen. Die Teilnehmenden werden ermutigt\, ihre eigenen Ideen und Fundstücke einzubringen\, um persönliche und einzigartige Werke zu schaffen. \n  \nFür wen ist dieser Kurs geeignet?\nAnfänger\, die die Grundlagen der Enkaustik und das Arbeiten mit Objekten erlernen möchten.\nFortgeschrittene\, die ihre Kenntnisse in der Wachsmalerei erweitern und um dreidimensionale Techniken bereichern möchten.\nKunstinteressierte\, die Freude am Experimentieren mit Farben\, Texturen und Materialien haben. \n \nKursdauer und Umfang\nTag 1: Vorbereiten des Untergrundes für die Arbeit am Nachmittag. Danach Einführung in die Enkaustik und erste Experimente.\nTag 2: Entwicklung eines individuellen Projekts mit der Integration von 3D-Objekten. \n  \nDieser Kurs verbindet Geschichte\, Technik und persönliche Kreativität und ermöglicht eine neue Perspektive auf die Verbindung von Malerei und Skulptur. Lassen Sie sich von der Vielseitigkeit des Wachses und der Schönheit des Unerwarteten begeistern! \n  \nMaterialliste:\nWird im Kurs gestellt \n500 gramm Enkaustik Medium – mehr kann vor Ort käuflich erworben werden\nWachsfarben\n30 x 30 Probe Holzuntergrund\nRost \nFototransfer\nPanPastell\nBunsenbrenner oder bitte eigenen mitbringen\nWärmeplatte von der Etter Academy\nHake Pinsel – bitte Bescheid geben wenn keine eigenen gebracht werden\nTusche\nGeräte zum Einritzen \nBitte mitbringen: mit ** gekennzeichnete Positionen können auch vor Ort erworben werden \nHeissluftfön oder **Bunsenbrenner ** (kann von mir geliehen oder gekauft werden)\n2-3 normale Schweineborstenpinsel\n2-3 **Hake Pinsel** – diese sind bei Boesner erhältlich und sind aus weichem Geisshaar\nSchaber zum Wachs abtragen\nMalerkrepp Tesa\, 3M\n1-2 Rollen Haushaltspapier\nNitril Einmal-Handschuhe\nFeste Holz-Malgründe bis max. 50x50cm z.B. Casani Körper welche extra stark sind oder alte\, dicke Holzbretter\nPapiere zum aufkleben (nicht zu dünn)\nGrosser Joghurtbecher zum mischen des Tabetenkleister\n3D Material wie Metalle\, Papiere\, Stoffe\, Schnur\, Zweige und vieles mehr\nArbeitskleidung\nAtemschutzmaske – da einige allergisch auf Wachs/Dammar Harz sind \n  \nMaterialbeitrag: 80 € \n \n 
URL:https://stefanieetter.de/workshop/enkaustik-und-3d-eine-reise-in-die-welt-der-wachsmalerei-und-objektkunst-workshop-mit-ursi-lysser-2/
LOCATION:Etter Art Academy\, Gmünder Str. 65\, Schorndorf\, 73614\, Deutschland
CATEGORIES:Etter Art Academy,Ursi Lysser
ATTACH;FMTTYPE=image/jpeg:https://stefanieetter.de/wp-content/uploads/2024/12/ursi-1.jpg
END:VEVENT
END:VCALENDAR