BEGIN:VCALENDAR
VERSION:2.0
PRODID:-//Etter Art Academy - ECPv6.15.18//NONSGML v1.0//EN
CALSCALE:GREGORIAN
METHOD:PUBLISH
X-ORIGINAL-URL:https://stefanieetter.de
X-WR-CALDESC:Veranstaltungen für Etter Art Academy
REFRESH-INTERVAL;VALUE=DURATION:PT1H
X-Robots-Tag:noindex
X-PUBLISHED-TTL:PT1H
BEGIN:VTIMEZONE
TZID:Europe/Berlin
BEGIN:DAYLIGHT
TZOFFSETFROM:+0100
TZOFFSETTO:+0200
TZNAME:CEST
DTSTART:20240331T010000
END:DAYLIGHT
BEGIN:STANDARD
TZOFFSETFROM:+0200
TZOFFSETTO:+0100
TZNAME:CET
DTSTART:20241027T010000
END:STANDARD
BEGIN:DAYLIGHT
TZOFFSETFROM:+0100
TZOFFSETTO:+0200
TZNAME:CEST
DTSTART:20250330T010000
END:DAYLIGHT
BEGIN:STANDARD
TZOFFSETFROM:+0200
TZOFFSETTO:+0100
TZNAME:CET
DTSTART:20251026T010000
END:STANDARD
BEGIN:DAYLIGHT
TZOFFSETFROM:+0100
TZOFFSETTO:+0200
TZNAME:CEST
DTSTART:20260329T010000
END:DAYLIGHT
BEGIN:STANDARD
TZOFFSETFROM:+0200
TZOFFSETTO:+0100
TZNAME:CET
DTSTART:20261025T010000
END:STANDARD
END:VTIMEZONE
BEGIN:VEVENT
DTSTART;TZID=Europe/Berlin:20251008T093000
DTEND;TZID=Europe/Berlin:20251008T163000
DTSTAMP:20260421T023410
CREATED:20250929T091354Z
LAST-MODIFIED:20250929T091354Z
UID:24351-1759915800-1759941000@stefanieetter.de
SUMMARY:Resin Basis Workshop
DESCRIPTION:Weitere Infos zum Kurs findest du hier: \nZur Anmeldung
URL:https://stefanieetter.de/workshop/resin-basis-workshop-62/
LOCATION:Farbenlaube Atelier Dornbirn\, J.G. Ulmer-Straße 6\, Dornbirn\, 6850\, Österreich
CATEGORIES:Basisworkshop Resin,Extern,Farbenlaube Atelier,Stefanie Etter
ATTACH;FMTTYPE=image/jpeg:https://stefanieetter.de/wp-content/uploads/2021/04/Muster_2.jpg
END:VEVENT
BEGIN:VEVENT
DTSTART;TZID=Europe/Berlin:20251009T093000
DTEND;TZID=Europe/Berlin:20251011T163000
DTSTAMP:20260421T023410
CREATED:20250416T114404Z
LAST-MODIFIED:20250416T114747Z
UID:23872-1760002200-1760200200@stefanieetter.de
SUMMARY:URBAN CONCEPTS – Schüttung\, Spray\, Papier & mehr
DESCRIPTION:Weitere Informationen zum Kurs findest du hier: \nZur Anmeldung
URL:https://stefanieetter.de/workshop/urban-concepts-schuettung-spray-papier-und-mehr/
LOCATION:Farbenlaube Atelier Dornbirn\, J.G. Ulmer-Straße 6\, Dornbirn\, 6850\, Österreich
CATEGORIES:Extern,Farbenlaube Atelier
ATTACH;FMTTYPE=image/jpeg:https://stefanieetter.de/wp-content/uploads/2024/12/IMG_4091.jpg
END:VEVENT
BEGIN:VEVENT
DTSTART;TZID=Europe/Berlin:20251023T100000
DTEND;TZID=Europe/Berlin:20251026T163000
DTSTAMP:20260421T023410
CREATED:20241215T161750Z
LAST-MODIFIED:20241215T161828Z
UID:23371-1761213600-1761496200@stefanieetter.de
SUMMARY:Workshop Exciting Art Connections
DESCRIPTION:Holz\, Struktur und Resin: die aufregende Mixed-Media-Verbindung\nBist du bereit für sensationelle Mixed-Media-Kunst? Kunst\, die verbindet und vereint: die Natürlichkeit von Holz mit der Haptik außergewöhnlicher Strukturen und dem extremen Glanz von Resin. \nDann bist du hier genau richtig\, im Workshop Exciting Art Connections. Gespannt? \n  \nHölzer\, Strukturmaterialien und Resin (Kunstharz) – deine Material-Highlights in diesem Workshop \nVerbindungen sind oft das A und O. Das gilt auch für die Mixed-Media-Werke\, die du im Exciting-Art-Connections-Workshop gestalten wirst.\nHier verbindest du Holz mit Strukturmedien und Resin in deinen Werken. Werken? Ja\, richtig. Du gestaltest in diesen vier Tagen mehrere Werke. In unterschiedlichen Formaten\, wenn du magst. \n  \nHolz in Kunstwerken einsetzen – vielleicht hast du das schon mal gesehen\, traust dich aber nicht alleine ran?\nIm Workshop erfährst du alles\, was du dazu wissen musst. Und dann gestaltest du deine eigene Kunst mit Holz. Dafür stehen dir unter anderem diese Hölzer zur Verfügung: Olivenholz und Furnierhölzer. Auch Baumrindenpapiere kommen zum Einsatz. \n \nStrukturmaterialien sind ein weiteres wichtiges Element für deine Exciting-Art-Connection-Kunst. Freu dich auf das Arbeiten mit Marmormehl\, Sumpfkalk\, resi-CRETE oder der XL CRACKLE PASTE. Du verwendest genau das oder die Medien\, die du in deinen Kunstwerken einsetzen willst. Und wenn du magst\, erzeugst du zusätzlich noch Wachsstrukturen mit Enkaustikwachs. \nResin darf auf keinen Fall fehlen\, das ist klar. Das Epoxidharz erfüllt für diese Art von Kunst gleich mehrere Funktionen: Es schafft Verbindungen. Es schafft Halt. Es schafft Tiefe. Und nicht zu vergessen: das Gefühl\, dass du beim Gießen von Resin erleben wirst. Dieser Flow ist so unvergleichlich wie sein Glanz. \nDass wir natürlich auch mit Farbmittel wie Pigmenten\, Sprays etc.  arbeiten\, müssen wir nicht extra erwähnen. Oder? \nErst wissen\, dann machen: die Technik\nWas du im Exciting-Art-Connections-Workshop lernst\, kannst du auch zu Hause nutzen. Deswegen erfährst du immer wieder Dinge zu Hintergründen: was\, warum\, wie? \nStefanie spricht zum Beispiel darüber\, welche Hölzer sich gut eignen – und warum das so ist. So weißt du auch\, ob du dein Lieblingsholz für deine Mixed-Media-Kunst verwenden kannst.\nDu erfährst\, welche Methoden es gibt\, um Holz auf Malgründen aufzubringen oder einzubetten. Und was du aus gestalterischer Sicht dazu beachten kannst. \nTechnische Hintergründe zu den Strukturmaterialien sind natürlich genauso Thema im Workshop. Resin ebenfalls – aber hier solltest du schon einiges an Wissen und Erfahrung mitbringen. \nDu kannst bei alldem auch im Alleingang losziehen und nach Trial & Error vorgehen. Du kannst dir aber viel Error (und Kosten) ersparen\, wenn du vom Profi lernst. Und damit kannst du dann auch so richtig loslegen: weil du weißt\, was alles möglich ist und was du mit deinem Wissen alles ausprobieren und erreichen kannst. \n  \nVielleicht spürst du sie jetzt schon\, diese Verbindung. Denn die besteht natürlich auch zwischen der Dozentin und Künstlerin Stefanie Etter und dir. Im Workshop und vielleicht sogar darüber hinaus. Nämlich in jedem deiner neuen Exciting-Art-Connections-Kunstwerke. Bist du bereit? \n  \nThemen im Workshop Exciting Art Connections:\n\nBildkomposition\nMaterialverständnis Hölzer: geeignete Hölzer\, Besonderheiten\, Methoden zum Aufbringen/Einbetten\nMaterialverständnis Strukturmaterialien: Besonderheiten und Möglichkeiten\nBrush-Technik mit Enkaustikwachs\nPouring mit Resin: klar und eingefärbt oder auch lasierend\nEinsatz von Farbmitteln\nArbeiten an mehreren Kunstwerken in gleichen oder unterschiedlichen Formaten\n\n  \nVoraussetzungen: mindestens Erfahrungen mit dem Medium Resin – entweder aus dem Lust-auf-Resin-Workshop oder vergleichbares Wissen und praktische Erfahrung in Bezug auf Resin \nDOWNLOAD MATERIALLISTE
URL:https://stefanieetter.de/workshop/workshop-exciting-art-connections-2/
LOCATION:Etter Art Academy\, Gmünder Str. 65\, Schorndorf\, 73614\, Deutschland
CATEGORIES:Etter Art Academy,Struktur und Resin
ATTACH;FMTTYPE=image/jpeg:https://stefanieetter.de/wp-content/uploads/2021/10/EARTH_670x100.jpg
END:VEVENT
END:VCALENDAR