BEGIN:VCALENDAR
VERSION:2.0
PRODID:-//Etter Art Academy - ECPv6.15.18//NONSGML v1.0//EN
CALSCALE:GREGORIAN
METHOD:PUBLISH
X-ORIGINAL-URL:https://stefanieetter.de
X-WR-CALDESC:Veranstaltungen für Etter Art Academy
REFRESH-INTERVAL;VALUE=DURATION:PT1H
X-Robots-Tag:noindex
X-PUBLISHED-TTL:PT1H
BEGIN:VTIMEZONE
TZID:Europe/Berlin
BEGIN:DAYLIGHT
TZOFFSETFROM:+0100
TZOFFSETTO:+0200
TZNAME:CEST
DTSTART:20250330T010000
END:DAYLIGHT
BEGIN:STANDARD
TZOFFSETFROM:+0200
TZOFFSETTO:+0100
TZNAME:CET
DTSTART:20251026T010000
END:STANDARD
BEGIN:DAYLIGHT
TZOFFSETFROM:+0100
TZOFFSETTO:+0200
TZNAME:CEST
DTSTART:20260329T010000
END:DAYLIGHT
BEGIN:STANDARD
TZOFFSETFROM:+0200
TZOFFSETTO:+0100
TZNAME:CET
DTSTART:20261025T010000
END:STANDARD
BEGIN:DAYLIGHT
TZOFFSETFROM:+0100
TZOFFSETTO:+0200
TZNAME:CEST
DTSTART:20270328T010000
END:DAYLIGHT
BEGIN:STANDARD
TZOFFSETFROM:+0200
TZOFFSETTO:+0100
TZNAME:CET
DTSTART:20271031T010000
END:STANDARD
END:VTIMEZONE
BEGIN:VEVENT
DTSTART;TZID=Europe/Berlin:20260430T100000
DTEND;TZID=Europe/Berlin:20260503T163000
DTSTAMP:20260420T191344
CREATED:20250630T081614Z
LAST-MODIFIED:20260130T070545Z
UID:24085-1777543200-1777825800@stefanieetter.de
SUMMARY:Workshop URBAN CONCEPTS
DESCRIPTION:Workshop Urban Concepts\nIn der Kunst gibt es kaum Grenzen. Das gilt auch für diesen Workshop. Erfahre\, wie spannend die Verbindung von Schüttungen\, Schablonen\, Sprays\, Schriften\, Papieren und Resin ist. Nicht entweder oder. Sondern und. Wenn du magst. \nAuch der Urban-Concepts-Style braucht technisches Verständnis\nIm Vordergrund des viertägigen Workshops stehen die richtige Bildkomposition und die passenden Materialien. Du lernst\, wie du ein Kunstwerk im Urban-Concepts-Style aufbaust\, welche Materialien sich dazu gut eignen und wie du sie einsetzt. \nMit diesem Wissen bist du gut gerüstet für den modernen Stil. Du gestaltest keine zufällige Anordnung von Farben und Materialien – sondern aufregende\, lebendige Kunst. Deine Urban Concepts. \nMit Schüttungen\, Schablonen\, Sprays und Schriften wird’s richtig urban\n\nEntdecke Schüttungen für deine Kunst: Farbschüttungen und Schüttungen mit der Gießmasse AQUA CAST. Damit erzielst du aufregende optische und haptische Effekte. Und lernst unter anderem Stefanie Etters Scherbentechnik kennen.\nSpiele mit Farben: Du kannst dich beim Urban Style mit viel Farbe ausdrücken. Du bevorzugst es minimalistischer? Für den Industrial Style verwendest du coole (Nicht-)Farben wie Schwarz\, Grau und Weiß – und setzt maximal einige farbige Akzente.\nNutze diese wichtigen Urban Elements auf deinem Malgrund: Ich zeige dir\, wie du mit Schablonen (Stencil) und Sprays sowie Papieren (Collage) richtig umgehst.\nSende Botschaften: Das Arbeiten mit Schriften sorgt für glasklare Aussagen in deinen Kunstwerken.\nKomplettiere deine Urban Concepts: Mit Resin kannst du zusätzliche farbige Akzente setzen\, unruhige Stellen beruhigen und am Schluss dein gesamtes Bild überziehen.\n\nDas Ergebnis: cool\, modern\, ausdrucksstark – und deine ganz eigenen Urban Concepts. \n \nThemen im Workshop Urban Concepts\n\nBildkomposition: der richtige Aufbau von Urban Concepts\nMixed Media: Schüttungen\, Schablonen\, Sprays\, Schriften\, Papiere und Resin\nFarbschüttungen: Basis und mehr\nSchüttungen mit der Gießmasse AQUA CAST: für scherbenartige Ergebnisse oder porzellanartige Oberflächen\nSchablonen: Welche Möglichkeiten hast du? Wie nutzt du Schablonen?\nSprays: Wie sprühst du für welche Effekte? Das solltest du in Bezug auf Sicherheit beachten.\nPapiere: Wie reißt du Papiere\, wenn du mit Resin arbeitest? Wie bringst du sie auf deinen Malkörper auf?\nResin: Wir arbeiten hauptsächlich mit dem Epoxidharz MASTERCAST 1-2-1 und auf Holzmalgründen.\nKunstwerke: Du wirst im Idealfall zwei bis drei Urban Concepts erschaffen. Dabei hat jedes Werk eine maximale Größe von 100 x 80 cm. Die Anzahl ist abhängig von der Größe und der benötigten Vorbehandlung.\n\nZusatzinfo\n\nVoraussetzungen: Tageskurs Resin oder gute Kenntnisse im Umgang mit Resin\nResin erhältst du zu vergünstigten Konditionen. Wir rechnen auch nach Verbrauch ab.\nAchtung: Die Bilder benötigen 24 Stunden Trocknungszeit. Bilder\, die du am letzten Workshoptag erstellst\, kannst du zu einem späteren Zeitpunkt abholen (lassen).\n\nDOWNLOAD MATERIALLISTE
URL:https://stefanieetter.de/workshop/workshop-urban-concepts/
LOCATION:Etter Art Academy\, Gmünder Str. 65\, Schorndorf\, 73614\, Deutschland
CATEGORIES:Etter Art Academy,Struktur und Resin
ATTACH;FMTTYPE=image/jpeg:https://stefanieetter.de/wp-content/uploads/2025/05/CITY-CLASH-mit-Stefanie.jpg
END:VEVENT
BEGIN:VEVENT
DTSTART;VALUE=DATE:20260510
DTEND;VALUE=DATE:20260516
DTSTAMP:20260420T191344
CREATED:20250515T075717Z
LAST-MODIFIED:20250515T075717Z
UID:23974-1778371200-1778889599@stefanieetter.de
SUMMARY:Resin Kunst mit Struktur\, Collage & Mixed Media am Gardasee (Malcesine)
DESCRIPTION:
URL:https://stefanieetter.de/workshop/resin-kunst-mit-struktur-collage-mixed-media-am-gardasee-malcesine-4/
LOCATION:Hotel Bellevue San Lorenzo****\, Via Gardesana\, 164\, Malcesine\, Malcesine VR\, 37018 Malcesine VR\, Italien
CATEGORIES:Extern,Farbenlaube Atelier
ATTACH;FMTTYPE=image/jpeg:https://stefanieetter.de/wp-content/uploads/2020/05/18_Resin-Kunst_80x80.jpg
END:VEVENT
END:VCALENDAR