BEGIN:VCALENDAR
VERSION:2.0
PRODID:-//Etter Art Academy - ECPv6.15.18//NONSGML v1.0//EN
CALSCALE:GREGORIAN
METHOD:PUBLISH
X-ORIGINAL-URL:https://stefanieetter.de
X-WR-CALDESC:Veranstaltungen für Etter Art Academy
REFRESH-INTERVAL;VALUE=DURATION:PT1H
X-Robots-Tag:noindex
X-PUBLISHED-TTL:PT1H
BEGIN:VTIMEZONE
TZID:Europe/Berlin
BEGIN:DAYLIGHT
TZOFFSETFROM:+0100
TZOFFSETTO:+0200
TZNAME:CEST
DTSTART:20230326T010000
END:DAYLIGHT
BEGIN:STANDARD
TZOFFSETFROM:+0200
TZOFFSETTO:+0100
TZNAME:CET
DTSTART:20231029T010000
END:STANDARD
BEGIN:DAYLIGHT
TZOFFSETFROM:+0100
TZOFFSETTO:+0200
TZNAME:CEST
DTSTART:20240331T010000
END:DAYLIGHT
BEGIN:STANDARD
TZOFFSETFROM:+0200
TZOFFSETTO:+0100
TZNAME:CET
DTSTART:20241027T010000
END:STANDARD
BEGIN:DAYLIGHT
TZOFFSETFROM:+0100
TZOFFSETTO:+0200
TZNAME:CEST
DTSTART:20250330T010000
END:DAYLIGHT
BEGIN:STANDARD
TZOFFSETFROM:+0200
TZOFFSETTO:+0100
TZNAME:CET
DTSTART:20251026T010000
END:STANDARD
END:VTIMEZONE
BEGIN:VEVENT
DTSTART;TZID=Europe/Berlin:20240421T090000
DTEND;TZID=Europe/Berlin:20240426T140000
DTSTAMP:20260423T051712
CREATED:20230822T093352Z
LAST-MODIFIED:20240307T092222Z
UID:21151-1713690000-1714140000@stefanieetter.de
SUMMARY:Resin Kunst mit Struktur\, Collage & Mixed Media am Gardasee (Malcesine)
DESCRIPTION:Weitere Informationen zum Kurs findest du hier: \nZur Anmeldung
URL:https://stefanieetter.de/workshop/resin-kunst-mit-struktur-collage-mixed-media-am-gardasee-malcesine/
LOCATION:Hotel Bellevue San Lorenzo****\, Via Gardesana\, 164\, Malcesine\, Malcesine VR\, 37018 Malcesine VR\, Italien
CATEGORIES:Extern,Farbenlaube Atelier
ATTACH;FMTTYPE=image/jpeg:https://stefanieetter.de/wp-content/uploads/2023/08/Bild-Etter-HELENA_-scaled-1-e1692696595425.jpg
END:VEVENT
END:VCALENDAR