BEGIN:VCALENDAR
VERSION:2.0
PRODID:-//Etter Art Academy - ECPv6.15.18//NONSGML v1.0//EN
CALSCALE:GREGORIAN
METHOD:PUBLISH
X-WR-CALNAME:Etter Art Academy
X-ORIGINAL-URL:https://stefanieetter.de
X-WR-CALDESC:Veranstaltungen für Etter Art Academy
REFRESH-INTERVAL;VALUE=DURATION:PT1H
X-Robots-Tag:noindex
X-PUBLISHED-TTL:PT1H
BEGIN:VTIMEZONE
TZID:Europe/Berlin
BEGIN:DAYLIGHT
TZOFFSETFROM:+0100
TZOFFSETTO:+0200
TZNAME:CEST
DTSTART:20230326T010000
END:DAYLIGHT
BEGIN:STANDARD
TZOFFSETFROM:+0200
TZOFFSETTO:+0100
TZNAME:CET
DTSTART:20231029T010000
END:STANDARD
BEGIN:DAYLIGHT
TZOFFSETFROM:+0100
TZOFFSETTO:+0200
TZNAME:CEST
DTSTART:20240331T010000
END:DAYLIGHT
BEGIN:STANDARD
TZOFFSETFROM:+0200
TZOFFSETTO:+0100
TZNAME:CET
DTSTART:20241027T010000
END:STANDARD
BEGIN:DAYLIGHT
TZOFFSETFROM:+0100
TZOFFSETTO:+0200
TZNAME:CEST
DTSTART:20250330T010000
END:DAYLIGHT
BEGIN:STANDARD
TZOFFSETFROM:+0200
TZOFFSETTO:+0100
TZNAME:CET
DTSTART:20251026T010000
END:STANDARD
END:VTIMEZONE
BEGIN:VEVENT
DTSTART;TZID=Europe/Berlin:20240705T093000
DTEND;TZID=Europe/Berlin:20240706T170000
DTSTAMP:20260422T093554
CREATED:20240107T060929Z
LAST-MODIFIED:20240704T073300Z
UID:22072-1720171800-1720285200@stefanieetter.de
SUMMARY:Resin Kunst Handwerk in Perfektion! So entsteht ein Harztisch - Intensiv Workshop
DESCRIPTION:Workshop Resin Kunst und Handwerk: Design\, Formenbau\, Tiefguss\, Schleifen und Polieren\nFreu dich auf diesen einzigartigen Workshop an der Resin Kunst Akademie in Schorndorf. Zwei Tage\, zwei Profis\, zwei Disziplinen. Gemeinsam haben wir Dozenten eine Leidenschaft: Wir lieben\, was wir tun. Und damit stecken wir dich gern an – wenn du uns lässt …\nFür den handwerklichen Part in diesem Workshop zeichnet Norbert Mainka verantwortlich. Den künstlerischen Part bringe ich\, Stefanie Etter\, dir näher.\nWir beide freuen uns auf dich. Und du dich hoffentlich auch auf uns? \n  \nhttps://stefanieetter.de/wp-content/uploads/2022/07/Harztische_Workshop.mp4\nHandwerk: Formenbau\, Schleifen und Polieren\nImmer wieder taucht eine Frage auf: Wie baue ich eine eigene Form für meine Resin Projekte? Wir geben dieser Frage Raum und erklären\, wie und womit du dir eine Form bauen kannst. Dazu verwenden wir die Materialien Silikon\, Metall\, Holz sowie Kunststoff und demonstrieren schrittweise\, wie du zur eigenen Form kommst. \nDann geht es mit vorbereiteten Silikonformen weiter\, mit deren Hilfe jeder sein eigenes Werkstück erstellt. Du erfährst als Erstes\, was du beachten solltest\, wenn du Holzstücke zum Einlegen und Eingießen auswählst. Denn hier geht es später um das Arbeiten mit Tiefgussharz. Nach der Auswahl gießt du zunächst den Boden für dein Werkstück und lässt ihn aushärten\, bevor es ans weitere künstlerische Gestalten geht (nächster Tag). \nWir widmen uns außerdem den Themen Schleifen und Polieren. Und zwar ausführlich\, denn es sind wichtige Aspekte beim Arbeiten mit Holz und Resin. Du wirst nicht nur hören\, was zu beachten ist\, sondern auch selbst Hand anlegen – an einem gemeinsamen Übungsstück. Norbert Mainka ist dabei an deiner Seite und gibt individuell Tipps\, sodass du richtig fit in diesen Themen wirst. \nDesign: Resin\, Gießen und Verfüllen (Tiefguss)\, Farben\, Sprays und Effekte\nResin ist ein spannendes Medium\, und ich nehme dich mit in meine Welt: Welches Resin eignet sich für welche Art von Kunst am besten? Worauf solltest du achten\, wenn du mehrschichtig gießen oder verfüllen willst? Welche gestalterischen Möglichkeiten hast du im Umgang mit Resin? Welche Rolle spielen Farben\, und womit kannst du welche Effekte erzeugen? Es gibt viel Wissenswertes zum Thema Kunstharz und Design. Du erhältst von mir eine theoretische Einführung und eine praktische Vorführung mit dem Resin MASTERCAST 1-2-1. \nDanach bist du an der Reihe – und das gleich zweifach: Zum einen gestaltest du deine eigene Holzbohle mit Resin. Eine reizvolle Möglichkeit\, die beiden spannenden Materialien Holz und Harz miteinander zu vereinen. Probier dich kreativ aus. Am Ende des Workshops nimmst du dann dein selbst kreiertes Designerstück mit nach Hause. \nUnd dann geht es natürlich mit deinem Werkstück aus dem Formenbau-Part weiter. Hier hast du nahezu unendlich viele Möglichkeiten\, die Form mit Resin zu verfüllen und dabei kreativ zu werden. Natürlich gibt es auch dabei wieder technische Dinge\, die wichtig zu beachten sind: Was kannst du zum Beispiel tun\, damit deine eingesetzten Farbmittel an der Resin Oberfläche bleiben und dort faszinierende Effekte erzeugen? Welche Effekte rufen Alkoholtinten\, Acryltinten oder Perlglanzpigmente hervor? Und welche Techniken sind mit Sprays möglich? Beim Tiefguss verhalten sich sowohl das Resin als auch die weiteren eingesetzten Materialien anders\, als du es vielleicht vom bisherigen Gestalten mit Kunstharzen kennst. Was gleich bleibt: Du wirst mischen\, gießen\, tropfen und sprayen. Du wirst gestalten und erschaffen. Und begeistert strahlen – so wie die Teilnehmerinnen und Teilnehmer aus bisherigen Workshops. \nDu erlebst in diesem Workshop den gesamten Prozess vom Bau der Form bis hin zum fertigen Werkstück. Dadurch bist du in der Lage\, zu Hause alles auf deine eigenen Projekte zu übertragen. Vielleicht steht ja als Nächstes schon ein River Table\, also ein Harztisch an? \nDu wünschst dir einen kleinen Einblick in den Workshop? Schau dir dazu das Video weiter unten an. Das wirst du dort entdecken: Handwerk\, Design und glückliche Menschen. \n\nThemen im Workshop „Design\, Formenbau\, Tiefguss\, Schleifen und Polieren“:\nHandwerkliche Themen:\n\nBau einer Form: Wie und womit wird die Form gebaut\, und welche Voraussetzungen muss sie erfüllen? (Demo durch Dozenten)\nEinlegen und Eingießen von Holzstücken in eigenes Werkstück (Workshopteilnehmer)\nDie richtige Oberflächenbehandlung: Schleifen und Polieren. Welche Körnungen sind die richtigen zum Schleifen\, und worauf muss besonders geachtet werden? Was ist wichtig beim Polieren\, und womit geht es am besten? (Workshopteilnehmer üben an gemeinsamem Musterstück)\n\nGestalterische Themen:\n\nGeeignetes Resin und Farben für Eingussarbeiten oder Gestalten; Unterschiede der verschiedenen Resine (wir arbeiten im Workshop mit zwei verschiedenen Resinen)\nUmgang mit sehr dicken Schichten Resin und dem dafür notwendigen Resin\, das langsam aushärtet (Tiefguss\, für Werkstück)\nGestaltung von Oberflächen mit schnell aushärtendem Resin (für Holzbohle)\n\n  \n\nAblauf des Workshops\n „So entsteht ein Harztisch“\n\nTag 1: \n\nSkizzieren Workshop Ablauf\nErklärungen Theorie Handwerk\nPraktischer Teil Thema Harztisch:\n– Einrichten des Arbeitsplatzes\n– Aussuchen der Holzstücke für die Eingussarbeit\n– Vorführung Muster-Form zusammen bauen und Varianten des Formenbau\n– Holzkanten der Muster-Form mit schnell trocknendem Harz einstreichen\nPraktischer Teil Thema Holzbohle:\n– Vorbereiten der Holzbohle\n– richtiges Abkleben der Kanten\n– Auswahl der Farben und Gestaltung der Oberfläche (Materialien werden nach Verbrauch im Workshop abgerechnet)\nErklärungen Theorie Design\nAuswahl der Farben und Gestaltung der Oberfläche (Materialien werden nach Verbrauch im Workshop abgerechnet)\n\nTag 2:\n\nThema Harztisch:\n– Resin in die zuvor gebaute Muster-Form gießen (Material wird nach Verbrauch im Workshop abgerechnet)\nSchleifen und Polieren. Üben an großer Platte\, Muster.\nnoch offene Fragen klären\n\nWichtig: Die Holzbohle kann mit nach Hause genommen werden. Das Harztisch-Musterstück nicht\, da die Trocknung über mehrere Tage geht. Wir senden Dir dieses\, gegen kleine Versandkostenpauschale\, nach Hause. \nOrganisatorisches:\nDatum: Alle Termine findest Du in der Workshop-Übersicht \nDauer: 2 Tage jeweils von 9:30 – 17:00 Uhr\, (je eine Stunde Mittagspause\, nach Absprache) \nAnzahl Teilnehmer: max. 12 Personen \nVoraussetzungen: Keine \nKosten: 640\,- Euro mit 2 Dozenten und 12 Teilnehmern \nFolgendes ist in den Workshop Kosten enthalten: Getränke\, Snacks\nHolzstücke für den für das Harztisch- Musterstück \nFolgendes ist nicht in den Workshop-Kosten enthalten:\nIm Workshop verwenden wir die Resine von Eli-Chem. Du wirst vor Ort nach Verbrauch in Kilogramm abgerechnet. Holzbohle bitte mitbringen\, kann auf Nachfrage für 35\,-€ auch bei uns erworben werden.\nDie Maße sollten ca. 120 cm x 30 cm nicht überschreiten. Wichtig\, das Holz sollte trocken und die Oberfläche glatt sein! \nFolgende Materialien benötigst Du zusätzlich\n\nPapier und Stift.\nEine Rolle Haushaltspapier.\nKlebeband für exakte Kanten (z.B. 3M Nr.3434)*\nStaubschutzmaske*\nEine Packung Einweg-Handschuhe aus Nitril.\n2 Messbecher 1 Liter.*\nMehrere Einweg-Becher aus Plastik zum Anmischen der Farben. Am besten 0\,2 l und 0\,4 l.\nMischstäbchen*\n1 Lackpinsel\nArbeitskleidung\nHolzbohle (bitte anfragen ob vorhanden)\n\nMaterialien mit *können auch vor Ort erworben werden.
URL:https://stefanieetter.de/workshop/resin-kunst-handwerk-in-perfektion-so-entsteht-ein-harztisch-intensiv-workshop-7/
LOCATION:Etter Art Academy\, Gmünder Str. 65\, Schorndorf\, 73614\, Deutschland
CATEGORIES:Etter Art Academy
ATTACH;FMTTYPE=image/jpeg:https://stefanieetter.de/wp-content/uploads/2020/01/Harztische.jpg
END:VEVENT
END:VCALENDAR