BEGIN:VCALENDAR
VERSION:2.0
PRODID:-//Etter Art Academy - ECPv6.15.18//NONSGML v1.0//EN
CALSCALE:GREGORIAN
METHOD:PUBLISH
X-ORIGINAL-URL:https://stefanieetter.de
X-WR-CALDESC:Veranstaltungen für Etter Art Academy
REFRESH-INTERVAL;VALUE=DURATION:PT1H
X-Robots-Tag:noindex
X-PUBLISHED-TTL:PT1H
BEGIN:VTIMEZONE
TZID:Europe/Berlin
BEGIN:DAYLIGHT
TZOFFSETFROM:+0100
TZOFFSETTO:+0200
TZNAME:CEST
DTSTART:20240331T010000
END:DAYLIGHT
BEGIN:STANDARD
TZOFFSETFROM:+0200
TZOFFSETTO:+0100
TZNAME:CET
DTSTART:20241027T010000
END:STANDARD
BEGIN:DAYLIGHT
TZOFFSETFROM:+0100
TZOFFSETTO:+0200
TZNAME:CEST
DTSTART:20250330T010000
END:DAYLIGHT
BEGIN:STANDARD
TZOFFSETFROM:+0200
TZOFFSETTO:+0100
TZNAME:CET
DTSTART:20251026T010000
END:STANDARD
BEGIN:DAYLIGHT
TZOFFSETFROM:+0100
TZOFFSETTO:+0200
TZNAME:CEST
DTSTART:20260329T010000
END:DAYLIGHT
BEGIN:STANDARD
TZOFFSETFROM:+0200
TZOFFSETTO:+0100
TZNAME:CET
DTSTART:20261025T010000
END:STANDARD
END:VTIMEZONE
BEGIN:VEVENT
DTSTART;TZID=Europe/Berlin:20250621T100000
DTEND;TZID=Europe/Berlin:20250622T170000
DTSTAMP:20260421T115544
CREATED:20240909T122452Z
LAST-MODIFIED:20241216T121511Z
UID:23009-1750500000-1750611600@stefanieetter.de
SUMMARY:Abenteuer Resin – Resin Basis Workshop
DESCRIPTION:Weitere Informationen zum Kurs findest du hier: \nZur Anmeldung
URL:https://stefanieetter.de/workshop/abenteuer-resin-resin-basis-workshop-2/
LOCATION:Kunstfabrik Wien\, Deinleingasse 3\, Wien\, 1220\, Österreich
CATEGORIES:Extern,Kunstfabrik Wien
ATTACH;FMTTYPE=image/jpeg:https://stefanieetter.de/wp-content/uploads/2023/08/K_2125_1.jpg
GEO:48.221627;16.446509
X-APPLE-STRUCTURED-LOCATION;VALUE=URI;X-ADDRESS=Kunstfabrik Wien Deinleingasse 3 Wien 1220 Österreich;X-APPLE-RADIUS=500;X-TITLE=Deinleingasse 3:geo:16.446509,48.221627
END:VEVENT
END:VCALENDAR