BEGIN:VCALENDAR
VERSION:2.0
PRODID:-//Etter Art Academy - ECPv6.15.18//NONSGML v1.0//EN
CALSCALE:GREGORIAN
METHOD:PUBLISH
X-WR-CALNAME:Etter Art Academy
X-ORIGINAL-URL:https://stefanieetter.de
X-WR-CALDESC:Veranstaltungen für Etter Art Academy
REFRESH-INTERVAL;VALUE=DURATION:PT1H
X-Robots-Tag:noindex
X-PUBLISHED-TTL:PT1H
BEGIN:VTIMEZONE
TZID:Europe/Berlin
BEGIN:DAYLIGHT
TZOFFSETFROM:+0100
TZOFFSETTO:+0200
TZNAME:CEST
DTSTART:20240331T010000
END:DAYLIGHT
BEGIN:STANDARD
TZOFFSETFROM:+0200
TZOFFSETTO:+0100
TZNAME:CET
DTSTART:20241027T010000
END:STANDARD
BEGIN:DAYLIGHT
TZOFFSETFROM:+0100
TZOFFSETTO:+0200
TZNAME:CEST
DTSTART:20250330T010000
END:DAYLIGHT
BEGIN:STANDARD
TZOFFSETFROM:+0200
TZOFFSETTO:+0100
TZNAME:CET
DTSTART:20251026T010000
END:STANDARD
BEGIN:DAYLIGHT
TZOFFSETFROM:+0100
TZOFFSETTO:+0200
TZNAME:CEST
DTSTART:20260329T010000
END:DAYLIGHT
BEGIN:STANDARD
TZOFFSETFROM:+0200
TZOFFSETTO:+0100
TZNAME:CET
DTSTART:20261025T010000
END:STANDARD
END:VTIMEZONE
BEGIN:VEVENT
DTSTART;TZID=Europe/Berlin:20250818T100000
DTEND;TZID=Europe/Berlin:20250820T170000
DTSTAMP:20260421T084919
CREATED:20240909T125557Z
LAST-MODIFIED:20241022T090830Z
UID:23025-1755511200-1755709200@stefanieetter.de
SUMMARY:Workshop Resin goes Urban Style
DESCRIPTION:Workshop: Resin goes Urban Style\n  \nIn der Kunst gibt es kaum Grenzen. Das gilt natürlich auch für die Resin Kunst. Lass dich von diesem Workshop-Format überraschen und erfahre\, wie spannend Resin in Verbindung mit Sprays\, Papier\, Schablonen und Schriften ist. Nicht entweder oder. Sondern und. Wenn du magst. Ich mag\, und einige Ergebnisse meiner Arbeiten im Resin Urban Style findest du auf meiner Künstler-Website. \nAuch der Urban Style braucht technisches Verständnis\nIm Vordergrund des dreitägigen Workshops stehen die richtige Bildkomposition und die passenden Materialien. Du lernst\, wie du ein Kunstwerk im Street-Art-Style aufbaust\, welche Materialien sich dazu gut eignen und wie du sie einsetzt. Mit diesem Wissen bist du gut gerüstet für den modernen Stil – und gestaltest keine zufällige Anordnung von Farben und Materialien\, sondern aufregende\, lebendige Kunst. \nMit Farbe\, Schrift\, Schablonen und Sprays wird’s urban\nDu kannst dich beim Urban Style mit viel Farbe und bunt wie bei Graffiti ausdrücken. Du bevorzugst es minimalistischer? Auch kein Problem: Für den Industrial Style verwendest du einfach coole Farben wie Schwarz\, Grau und Weiß und setzt maximal einige farbige Akzente. Das Arbeiten mit Schriften sorgt für klare Botschaften in deinen Kunstwerken. Und um den Resin Urban Style zu perfektionieren\, zeige ich dir\, wie du mit Papier (Collage)\, Schablonen (Stencil) und Sprays richtig umgehst. \nDen krönenden Abschluss bildet dann Resin. Mit dem Kunstharz kannst du zusätzliche farbige Akzente setzen\, unruhige Stellen beruhigen und am Schluss dein gesamtes Bild überziehen. \nDas Ergebnis: cool\, modern\, ausdrucksstark – und dein ganz eigener Resin Urban Style. \nThemen im Workshop Resin Urban Style:\n\nBildkomposition – der richtige Aufbau von Kunstwerken\n Mischtechnik: Sprays\, Papier\, Schablonen\, Schriften und Resin\n Umgang mit Sprays: Wie sprüht man und welche Effekte lassen sich mit Sprays erzielen? Das gibt es in Bezug auf Sicherheit zu beachten (Schutzmaske mit Gasfilter).\nUmgang mit Papier: Wie wird Papier für das Arbeiten mit Resin gerissen? Wie und mit was wird es auf den Malkörper aufgebracht?\nArbeiten vorzugsweise mit Resin MASTERCAST (eine oder zwei Schichten)\, auf Holzmalgrund\nGestalten von zwei bis drei Kunstwerken\, je bis maximal 100 x 80 cm (die Anzahl der Bilder ist abhängig von der Größe und der benötigten Vorbehandlung)\n\nDer Kurs findet in der Etter Art Akademie in Schorndorf (nahe Stuttgart) statt.\nSehr gute Anbindung an die öffentlichen Verkehrsmittel \nVoraussetzungen: Basiskurs oder gute Kenntnisse im Umgang mit Resin \nTeilnehmer: maximal 10 Personen \nDauer: 3 Tage\, 10:00 – 17:00 Uhr (1 Stunde Mittagspause) \nKosten: 439\,- Euro incl. Getränke und Snacks \nResin erhältst Du zu vergünstigten Konditionen und kann auch nach Verbrauch abgerechnet werden. \nAchtung! die Bilder benötigen 24 Stunden Trockenzeit. Bilder die am letzten Tag erstellt werden können zu einem späteren Zeitpunkt abgeholt werden. Außerdem besteht die Möglichkeit\, dass Ihnen Ihre Kunstwerke zugesandt werden. \nDownload der Materialliste für den Kurs\n 
URL:https://stefanieetter.de/workshop/workshop-resin-goes-urban-style-10/
LOCATION:Etter Art Academy\, Gmünder Str. 65\, Schorndorf\, 73614\, Deutschland
CATEGORIES:Etter Art Academy,Resin goes Urban Style Workshop
ATTACH;FMTTYPE=image/jpeg:https://stefanieetter.de/wp-content/uploads/2020/08/Urban_Style2_70x100-e1642531871480.jpg
END:VEVENT
END:VCALENDAR