BEGIN:VCALENDAR
VERSION:2.0
PRODID:-//Etter Art Academy - ECPv6.15.18//NONSGML v1.0//EN
CALSCALE:GREGORIAN
METHOD:PUBLISH
X-ORIGINAL-URL:https://stefanieetter.de
X-WR-CALDESC:Veranstaltungen für Etter Art Academy
REFRESH-INTERVAL;VALUE=DURATION:PT1H
X-Robots-Tag:noindex
X-PUBLISHED-TTL:PT1H
BEGIN:VTIMEZONE
TZID:Europe/Berlin
BEGIN:DAYLIGHT
TZOFFSETFROM:+0100
TZOFFSETTO:+0200
TZNAME:CEST
DTSTART:20240331T010000
END:DAYLIGHT
BEGIN:STANDARD
TZOFFSETFROM:+0200
TZOFFSETTO:+0100
TZNAME:CET
DTSTART:20241027T010000
END:STANDARD
BEGIN:DAYLIGHT
TZOFFSETFROM:+0100
TZOFFSETTO:+0200
TZNAME:CEST
DTSTART:20250330T010000
END:DAYLIGHT
BEGIN:STANDARD
TZOFFSETFROM:+0200
TZOFFSETTO:+0100
TZNAME:CET
DTSTART:20251026T010000
END:STANDARD
BEGIN:DAYLIGHT
TZOFFSETFROM:+0100
TZOFFSETTO:+0200
TZNAME:CEST
DTSTART:20260329T010000
END:DAYLIGHT
BEGIN:STANDARD
TZOFFSETFROM:+0200
TZOFFSETTO:+0100
TZNAME:CET
DTSTART:20261025T010000
END:STANDARD
END:VTIMEZONE
BEGIN:VEVENT
DTSTART;TZID=Europe/Berlin:20250902T093000
DTEND;TZID=Europe/Berlin:20250904T163000
DTSTAMP:20260421T053239
CREATED:20240909T131126Z
LAST-MODIFIED:20250206T125056Z
UID:23033-1756805400-1757003400@stefanieetter.de
SUMMARY:Fusion Art Ideas - Verbunden\, Verschmolzen\, Verzaubert
DESCRIPTION:Weitere Informationen zum Kurs findest du hier: \nZur Anmeldung
URL:https://stefanieetter.de/workshop/fusion-art-ideas-verbunden-verschmolzen-verzaubert/
LOCATION:Kunstfabrik Hannover\, Helmkestraße 5 A\, Hannover\, 30165\, Deutschland
CATEGORIES:Extern,Kunstfabrik Hannover
ATTACH;FMTTYPE=image/jpeg:https://stefanieetter.de/wp-content/uploads/2024/08/DSC08266-2.jpg
END:VEVENT
END:VCALENDAR