BEGIN:VCALENDAR
VERSION:2.0
PRODID:-//Etter Art Academy - ECPv6.15.18//NONSGML v1.0//EN
CALSCALE:GREGORIAN
METHOD:PUBLISH
X-ORIGINAL-URL:https://stefanieetter.de
X-WR-CALDESC:Veranstaltungen für Etter Art Academy
REFRESH-INTERVAL;VALUE=DURATION:PT1H
X-Robots-Tag:noindex
X-PUBLISHED-TTL:PT1H
BEGIN:VTIMEZONE
TZID:Europe/Berlin
BEGIN:DAYLIGHT
TZOFFSETFROM:+0100
TZOFFSETTO:+0200
TZNAME:CEST
DTSTART:20250330T010000
END:DAYLIGHT
BEGIN:STANDARD
TZOFFSETFROM:+0200
TZOFFSETTO:+0100
TZNAME:CET
DTSTART:20251026T010000
END:STANDARD
BEGIN:DAYLIGHT
TZOFFSETFROM:+0100
TZOFFSETTO:+0200
TZNAME:CEST
DTSTART:20260329T010000
END:DAYLIGHT
BEGIN:STANDARD
TZOFFSETFROM:+0200
TZOFFSETTO:+0100
TZNAME:CET
DTSTART:20261025T010000
END:STANDARD
BEGIN:DAYLIGHT
TZOFFSETFROM:+0100
TZOFFSETTO:+0200
TZNAME:CEST
DTSTART:20270328T010000
END:DAYLIGHT
BEGIN:STANDARD
TZOFFSETFROM:+0200
TZOFFSETTO:+0100
TZNAME:CET
DTSTART:20271031T010000
END:STANDARD
END:VTIMEZONE
BEGIN:VEVENT
DTSTART;TZID=Europe/Berlin:20260224T100000
DTEND;TZID=Europe/Berlin:20260227T170000
DTSTAMP:20260420T204323
CREATED:20250522T111623Z
LAST-MODIFIED:20260129T132912Z
UID:24006-1771927200-1772211600@stefanieetter.de
SUMMARY:Fusion Art Ideas - Enkaustik\, Struktur und Resin (4-Tage-Workshop)
DESCRIPTION:Enkaustik\, Struktur und Resin: verbunden\, verschmolzen\, verzaubert\nJetzt darfst du aus dem Vollen schöpfen: Der Fusion-Art-Ideas-Workshop ist ideal für dich\, wenn du gern mit zahlreichen verschiedenen Materialien auf einem Malgrund arbeitest (oder arbeiten möchtest). Wenn du Dinge miteinander in Verbindung bringen willst. Weil du das vielleicht auch sonst in deinem Leben tust: verbinden von Stilen\, Materialien\, Farben\, Geschmacksrichtungen – und Menschen. \n \nMixed Media mit Wachs – Enkaustik neu interpretiert\nWenn du das hier liest\, bist du bestimmt Fan von Resin. Und vielleicht auch von Strukturmaterialien. Aber wie sieht es mit Wachsmalerei aus\, auch Enkaustik genannt – hast du davon schon einmal gehört? Enkaustik ist eine Jahrtausende alte Tradition\, viel älter als zum Beispiel die Ölmalerei. \nMit Wachs malen. Was sich im ersten Moment für deine Ohren vielleicht etwas seltsam anhört\, wird klar\, wenn du das Material kennenlernst. Es gibt klares sowie pigmentiertes Wachs. Und dieses Wachs wird erhitzt und dann heiß auf einen Malkörper aufgetragen. Eine spannende Technik\, die dir auch neue Perspektiven in der Mixed-Media-Anwendung erlaubt. \nEnkaustik passt meiner Erfahrung nach ideal zu Resin und zu Strukturmaterialien. Deswegen habe ich diesen Workshop für dich entwickelt. Und natürlich\, weil ich meine Begeisterung über diese Fusion unbedingt weitergeben muss. Für viele neue faszinierende Kunstwerke. \n \nMutig neue Wege in der Kunst gehen\nIch möchte dir ein Angebot machen\, hast du Lust? Entdecke im Fusion-Art-Ideas-Workshop\, was neu für dich ist. Verbinde dieses Neue mit dem\, was du schon kennst und kannst. So kreierst und erlebst du Kunst auf eine völlig andere Weise. \nVielleicht hast du jetzt Zweifel und denkst „Ganz schön viel\, ich weiß nicht\, ob ich mir das zutraue“. Ja\, das ist ganz schön viel – und das ist auch das Tolle daran. Ich führe dich sicher durch alle Materialien aus dem Workshop und zeige dir verschiedene Möglichkeiten auf\, wie du sie anwenden kannst. \nStell dir statt deiner Zweifel also gern vor\, welche außergewöhnlichen Werke du erschaffen wirst – eben weil du aus dem Vollen schöpfen kannst. Und weil du weißt: Alles ist ein Angebot. Du entscheidest\, was davon du annimmst und umsetzt. Es gibt kein richtig oder falsch. Nur aufregende neue Fusion Art Ideas! \nGehst du mit mir die neuen Wege in deiner Kunst? \n \nThemen im Workshop Fusion Art Ideas:\n• Materialverständnis Resin\, Strukturmaterialien und Enkaustikwachs\n• Umgang mit verschiedenen Materialien auf einem Malgrund\n• Materialien übereinander oder nebeneinander auftragen\n• Farbschüttungen und Materialschüttung mit AquaCast\n• Kreieren in der Brush-Technik: Strukturen aus Wachs erzeugen oder vorhandene Strukturen mit Wachs bearbeiten für Effekte wie Eiskristalle\n• Anwenden und Einbinden von Papieren und Sprays\n• Kontraste schaffen zwischen matten und glänzenden Partien auf einer Ebene oder lasierend in Schichten \nDownload der Materialliste für den Kurs.\n  \nVoraussetzungen: Erfahrungen mit dem Medium Resin – entweder aus dem Lust-auf-Resin-Workshop oder vergleichbares Wissen sowie praktische Erfahrung in Bezug auf Resin.
URL:https://stefanieetter.de/workshop/fusion-art-ideas-enkaustik-struktur-und-resin-4-tage-workshop-2/
LOCATION:Etter Art Academy\, Gmünder Str. 65\, Schorndorf\, 73614\, Deutschland
CATEGORIES:Etter Art Academy,Struktur und Resin
ATTACH;FMTTYPE=image/jpeg:https://stefanieetter.de/wp-content/uploads/2023/02/Wachs3.jpg
END:VEVENT
END:VCALENDAR