BEGIN:VCALENDAR
VERSION:2.0
PRODID:-//Etter Art Academy - ECPv6.15.18//NONSGML v1.0//EN
CALSCALE:GREGORIAN
METHOD:PUBLISH
X-WR-CALNAME:Etter Art Academy
X-ORIGINAL-URL:https://stefanieetter.de
X-WR-CALDESC:Veranstaltungen für Etter Art Academy
REFRESH-INTERVAL;VALUE=DURATION:PT1H
X-Robots-Tag:noindex
X-PUBLISHED-TTL:PT1H
BEGIN:VTIMEZONE
TZID:Europe/Berlin
BEGIN:DAYLIGHT
TZOFFSETFROM:+0100
TZOFFSETTO:+0200
TZNAME:CEST
DTSTART:20250330T010000
END:DAYLIGHT
BEGIN:STANDARD
TZOFFSETFROM:+0200
TZOFFSETTO:+0100
TZNAME:CET
DTSTART:20251026T010000
END:STANDARD
BEGIN:DAYLIGHT
TZOFFSETFROM:+0100
TZOFFSETTO:+0200
TZNAME:CEST
DTSTART:20260329T010000
END:DAYLIGHT
BEGIN:STANDARD
TZOFFSETFROM:+0200
TZOFFSETTO:+0100
TZNAME:CET
DTSTART:20261025T010000
END:STANDARD
BEGIN:DAYLIGHT
TZOFFSETFROM:+0100
TZOFFSETTO:+0200
TZNAME:CEST
DTSTART:20270328T010000
END:DAYLIGHT
BEGIN:STANDARD
TZOFFSETFROM:+0200
TZOFFSETTO:+0100
TZNAME:CET
DTSTART:20271031T010000
END:STANDARD
END:VTIMEZONE
BEGIN:VEVENT
DTSTART;TZID=Europe/Berlin:20260611T100000
DTEND;TZID=Europe/Berlin:20260611T163000
DTSTAMP:20260420T233423
CREATED:20250630T083547Z
LAST-MODIFIED:20260416T113353Z
UID:24090-1781172000-1781195400@stefanieetter.de
SUMMARY:Der Resin Basis Workshop
DESCRIPTION:Der Lust-auf-Resin-Workshop\nLust aufs Abenteuer Resin? Hier gibt’s Basics und einiges mehr. \nDu willst wissen\, was du mit Resin im künstlerischen Bereich so alles machen kannst? Oder hast schon Erfahrungen mit Resin gesammelt und hast jetzt Lust auf mehr? Vielleicht möchtest du dein Resin Wissen etwas auffrischen und wieder mehr Praxis bekommen? Dann sei unbedingt Teil dieses intensiven Workshops. \nIch nehme dich mit auf eine spannende Reise. In eine Welt\, die strahlt und glänzt. Eine Welt\, in der sich alles um dieses außergewöhnliche Medium dreht: Resin. Ein Kunstharz\, das so stark glänzt wie 40-facher Lack. \nLust auf Resin. Lust auf Farbe. Lust auf Kunst.\nSowohl in Theorie als auch in Praxis wirst du erfahren und erleben\, was es bedeutet\, Bilder mit diesem wunderbaren Material zu gestalten. Du lernst verschiedene Möglichkeiten der Anwendung von Resin kennen\, denn es gibt nicht nur ein Resin – aber das eine richtige Resin für den einen bestimmten Zweck. Das hat zum Beispiel mit der Viskosität eines Kunstharzes zu tun. \nDa hochwertiges Resin von Natur aus klar ist\, beschäftigen wir uns auch mit dem Thema Farbe. Denn du kannst Resin wunderbar einfärben\, mit verschiedenen Pigmenten. Das ist der Punkt\, ab dem es dann auch richtig spannend wird. Auf welche Farben hast du Lust? Welche Effekte kannst du mit Farbübergängen erzeugen? Was passt eigentlich zueinander\, oder gilt beim Thema Farbe „alles ist erlaubt“? Im Workshop erkläre ich alles\, was du dazu – im Zusammenhang mit Resin – Wissen solltest. Schließlich kommen Resin und Farbe nicht irgendwo wahllos auf einen Malgrund\, sondern mit Know-how\, guten Überlegungen und Fingerspitzengefühl. Auch über unterschiedliche Malgründe werden wir sprechen und über die Voraussetzungen\, die sie für die Resin Kunst erfüllen müssen. \nResin Kunst gestalten\nAll dein neues oder aufgefrischtes Wissen setzt du dann natürlich auch in die Tat um\, es ist ja ein „Work“-shop: Du gestaltest dein Resin Kunstwerk. Worauf es dabei aus technischer Sicht ankommt\, weißt du spätestens nach den theoretischen Ausführungen. Jetzt liegt es an dir. Denn du bringst viel von dir in dein Werk ein\, weswegen es auch dein ganz persönliches Kunstwerk wird. \n \nIst der Lust-auf-Resin-Workshop das Richtige für dich?\nDu hast noch keine Erfahrung mit Resin? Herzlich willkommen! Du hast bereits Erfahrung im Umgang mit Resin? Herzlich willkommen! Der Lust-auf-Resin-Workshop steht jedem offen\, der Lust auf Resin hat. Deswegen habe ich ihn so genannt. Du kannst von Grund auf Neues lernen. Oder immer wieder Neues. Dein Wissen ergänzen. Mit anderen Materialien oder Formaten arbeiten als bisher … Und: Nutze die Gelegenheit und stelle mir in diesem Workshop deine Resin Fragen. \nResin wird dich überraschen\, begeistern – und nicht mehr loslassen. Na? Lust bekommen? Dann freue ich mich auf deine Anmeldung. \nThemen im Lust-auf-Resin-Workshop:\n\nResin: unterschiedliche Arten und Einsatzmöglichkeiten\nFarben: Resin einfärben\nGeeignete Untergründe für das Arbeiten mit Resin: im Workshop stehen verschiedene Malgründe wie Holz\, Leinwand\, Aluplatten oder Acrylglas zur Verfügung\nNachhaltiger Umgang mit Resin („Resteverwertung“)\n\n \nVoraussetzungen: Keine \nTeilnehmer: maximal 14 Personen\, der Kurs findet ab 4 Teilnehmer statt \nDauer: 1 Tag; von 10:00-16:30 Uhr\, eine Stunde Mittagspause nach Absprache\,\nincl. Getränke\, Snack und Schutzmaske \nKosten: 170\,- Euro \nGegen eine Materialpauschale von 25\,- Euro kannst Du über eine Auswahl an über 60 Farben\, Effektspray und sonstige Zusätze verfügen und Deine Kunstwerke gestalten. Natürlich kannst Du auch Deine Farben mitbringen. Resin erhältst Du im Workshop vergünstigt. \nAchtung\, die Bilder benötigen 24 Stunden Trockenzeit. Bilder die am letzten Tag erstellt werden können zu einem späteren Zeitpunkt abgeholt werden. Außerdem besteht die Möglichkeit\, dass Ihnen Ihre Kunstwerke zugesandt werden. \nDownload der Materialliste für den Kurs.\n 
URL:https://stefanieetter.de/workshop/der-resin-basis-workshop/
LOCATION:Etter Art Academy\, Gmünder Str. 65\, Schorndorf\, 73614\, Deutschland
CATEGORIES:Basisworkshop Resin,Etter Art Academy
ATTACH;FMTTYPE=image/jpeg:https://stefanieetter.de/wp-content/uploads/2023/08/K_2125_1.jpg
END:VEVENT
BEGIN:VEVENT
DTSTART;TZID=Europe/Berlin:20260612T100000
DTEND;TZID=Europe/Berlin:20260615T163000
DTSTAMP:20260420T233423
CREATED:20250515T080836Z
LAST-MODIFIED:20260130T070721Z
UID:23509-1781258400-1781541000@stefanieetter.de
SUMMARY:Workshop Exciting Art Connections
DESCRIPTION:Holz\, Struktur und Resin: die aufregende Mixed-Media-Verbindung\nBist du bereit für sensationelle Mixed-Media-Kunst? Kunst\, die verbindet und vereint: die Natürlichkeit von Holz mit der Haptik außergewöhnlicher Strukturen und dem extremen Glanz von Resin. \nDann bist du hier genau richtig\, im Workshop Exciting Art Connections. Gespannt? \n  \nHölzer\, Strukturmaterialien und Resin (Kunstharz) – deine Material-Highlights in diesem Workshop \nVerbindungen sind oft das A und O. Das gilt auch für die Mixed-Media-Werke\, die du im Exciting-Art-Connections-Workshop gestalten wirst.\nHier verbindest du Holz mit Strukturmedien und Resin in deinen Werken. Werken? Ja\, richtig. Du gestaltest in diesen vier Tagen mehrere Werke. In unterschiedlichen Formaten\, wenn du magst. \n  \nHolz in Kunstwerken einsetzen – vielleicht hast du das schon mal gesehen\, traust dich aber nicht alleine ran?\nIm Workshop erfährst du alles\, was du dazu wissen musst. Und dann gestaltest du deine eigene Kunst mit Holz. Dafür stehen dir unter anderem diese Hölzer zur Verfügung: Olivenholz und Furnierhölzer. Auch Baumrindenpapiere kommen zum Einsatz. \n \nStrukturmaterialien sind ein weiteres wichtiges Element für deine Exciting-Art-Connection-Kunst. Freu dich auf das Arbeiten mit Marmormehl\, Sumpfkalk\, resi-CRETE oder der XL CRACKLE PASTE. Du verwendest genau das oder die Medien\, die du in deinen Kunstwerken einsetzen willst. Und wenn du magst\, erzeugst du zusätzlich noch Wachsstrukturen mit Enkaustikwachs. \nResin darf auf keinen Fall fehlen\, das ist klar. Das Epoxidharz erfüllt für diese Art von Kunst gleich mehrere Funktionen: Es schafft Verbindungen. Es schafft Halt. Es schafft Tiefe. Und nicht zu vergessen: das Gefühl\, dass du beim Gießen von Resin erleben wirst. Dieser Flow ist so unvergleichlich wie sein Glanz. \nDass wir natürlich auch mit Farbmittel wie Pigmenten\, Sprays etc.  arbeiten\, müssen wir nicht extra erwähnen. Oder? \nErst wissen\, dann machen: die Technik\nWas du im Exciting-Art-Connections-Workshop lernst\, kannst du auch zu Hause nutzen. Deswegen erfährst du immer wieder Dinge zu Hintergründen: was\, warum\, wie? \nStefanie spricht zum Beispiel darüber\, welche Hölzer sich gut eignen – und warum das so ist. So weißt du auch\, ob du dein Lieblingsholz für deine Mixed-Media-Kunst verwenden kannst.\nDu erfährst\, welche Methoden es gibt\, um Holz auf Malgründen aufzubringen oder einzubetten. Und was du aus gestalterischer Sicht dazu beachten kannst. \nTechnische Hintergründe zu den Strukturmaterialien sind natürlich genauso Thema im Workshop. Resin ebenfalls – aber hier solltest du schon einiges an Wissen und Erfahrung mitbringen. \nDu kannst bei alldem auch im Alleingang losziehen und nach Trial & Error vorgehen. Du kannst dir aber viel Error (und Kosten) ersparen\, wenn du vom Profi lernst. Und damit kannst du dann auch so richtig loslegen: weil du weißt\, was alles möglich ist und was du mit deinem Wissen alles ausprobieren und erreichen kannst. \n  \nVielleicht spürst du sie jetzt schon\, diese Verbindung. Denn die besteht natürlich auch zwischen der Dozentin und Künstlerin Stefanie Etter und dir. Im Workshop und vielleicht sogar darüber hinaus. Nämlich in jedem deiner neuen Exciting-Art-Connections-Kunstwerke. Bist du bereit? \n  \nThemen im Workshop Exciting Art Connections:\n\nBildkomposition\nMaterialverständnis Hölzer: geeignete Hölzer\, Besonderheiten\, Methoden zum Aufbringen/Einbetten\nMaterialverständnis Strukturmaterialien: Besonderheiten und Möglichkeiten\nBrush-Technik mit Enkaustikwachs\nPouring mit Resin: klar und eingefärbt oder auch lasierend\nEinsatz von Farbmitteln\nArbeiten an mehreren Kunstwerken in gleichen oder unterschiedlichen Formaten\n\n  \nVoraussetzungen: Erfahrungen mit dem Medium Resin – entweder aus dem Lust-auf-Resin-Workshop oder vergleichbares Wissen sowie praktische Erfahrung in Bezug auf Resin. \nDOWNLOAD MATERIALLISTE
URL:https://stefanieetter.de/workshop/workshop-exciting-art-connections-4/
LOCATION:Etter Art Academy\, Gmünder Str. 65\, Schorndorf\, 73614\, Deutschland
CATEGORIES:Etter Art Academy,Struktur und Resin
ATTACH;FMTTYPE=image/jpeg:https://stefanieetter.de/wp-content/uploads/2021/10/EARTH_670x100.jpg
END:VEVENT
END:VCALENDAR