BEGIN:VCALENDAR
VERSION:2.0
PRODID:-//Etter Art Academy - ECPv6.15.18//NONSGML v1.0//EN
CALSCALE:GREGORIAN
METHOD:PUBLISH
X-WR-CALNAME:Etter Art Academy
X-ORIGINAL-URL:https://stefanieetter.de
X-WR-CALDESC:Veranstaltungen für Etter Art Academy
REFRESH-INTERVAL;VALUE=DURATION:PT1H
X-Robots-Tag:noindex
X-PUBLISHED-TTL:PT1H
BEGIN:VTIMEZONE
TZID:Europe/Berlin
BEGIN:DAYLIGHT
TZOFFSETFROM:+0100
TZOFFSETTO:+0200
TZNAME:CEST
DTSTART:20250330T010000
END:DAYLIGHT
BEGIN:STANDARD
TZOFFSETFROM:+0200
TZOFFSETTO:+0100
TZNAME:CET
DTSTART:20251026T010000
END:STANDARD
BEGIN:DAYLIGHT
TZOFFSETFROM:+0100
TZOFFSETTO:+0200
TZNAME:CEST
DTSTART:20260329T010000
END:DAYLIGHT
BEGIN:STANDARD
TZOFFSETFROM:+0200
TZOFFSETTO:+0100
TZNAME:CET
DTSTART:20261025T010000
END:STANDARD
BEGIN:DAYLIGHT
TZOFFSETFROM:+0100
TZOFFSETTO:+0200
TZNAME:CEST
DTSTART:20270328T010000
END:DAYLIGHT
BEGIN:STANDARD
TZOFFSETFROM:+0200
TZOFFSETTO:+0100
TZNAME:CET
DTSTART:20271031T010000
END:STANDARD
END:VTIMEZONE
BEGIN:VEVENT
DTSTART;TZID=Europe/Berlin:20260719T130000
DTEND;TZID=Europe/Berlin:20260719T170000
DTSTAMP:20260421T022326
CREATED:20250515T070648Z
LAST-MODIFIED:20260218T105816Z
UID:23961-1784466000-1784480400@stefanieetter.de
SUMMARY:Graffiti Tagesworkshop
DESCRIPTION:Du hattest schon immer mal Lust zu sprühen und dich mit Graffiti zu beschäftigen?\nDann bist du bei diesem Workshop genau richtig\, denn hier bekommst du die Möglichkeit\, dich kreativ zu verwirklichen!\nIn diesem Workshop lernst du nach einer kurzen Einführung in die Geschichte der Graffitikultur\, die Grundlagen der Buchstabengestaltung\, dem Kern des Graffitis. \n \nAnschließend wird der Umgang mit den Sprühdosen und dem weiteren Zubehör erklärt. Darüber hinaus erhältst du Informationen zu den gesundheitlichen Aspekten beim Arbeiten mit Sprühlacken. Du gestaltest dein erstes eigenes kleines Kunstwerk. \nAnschließend gestalten wir gemeinsam eine große Leinwand 200 x 200. \nArbeitsmaterialien:\nAlles was in diesem Graffiti-Kurs benötigt wird\, wie Spraydosen und Schablonen\, Leinwand und Mustermalplatte wird für dich bereitgestellt. \n\nDu solltest Klamotten anziehen\, welche ein bisschen Farbe abbekommen dürfen\, Nittilhandschuhe und eine FFP2-Maske mitbringen. \nKosten 150\,-
URL:https://stefanieetter.de/workshop/grafitti-tagesworkshop-3-2/
LOCATION:Etter Art Academy\, Gmünder Str. 65\, Schorndorf\, 73614\, Deutschland
CATEGORIES:Etter Art Academy,Graffiti Street Art
ATTACH;FMTTYPE=image/jpeg:https://stefanieetter.de/wp-content/uploads/2024/02/MasterClass-34-von-58.jpg
END:VEVENT
END:VCALENDAR