BEGIN:VCALENDAR
VERSION:2.0
PRODID:-//Etter Art Academy - ECPv6.15.18//NONSGML v1.0//EN
CALSCALE:GREGORIAN
METHOD:PUBLISH
X-WR-CALNAME:Etter Art Academy
X-ORIGINAL-URL:https://stefanieetter.de
X-WR-CALDESC:Veranstaltungen für Etter Art Academy
REFRESH-INTERVAL;VALUE=DURATION:PT1H
X-Robots-Tag:noindex
X-PUBLISHED-TTL:PT1H
BEGIN:VTIMEZONE
TZID:Europe/Berlin
BEGIN:DAYLIGHT
TZOFFSETFROM:+0100
TZOFFSETTO:+0200
TZNAME:CEST
DTSTART:20250330T010000
END:DAYLIGHT
BEGIN:STANDARD
TZOFFSETFROM:+0200
TZOFFSETTO:+0100
TZNAME:CET
DTSTART:20251026T010000
END:STANDARD
BEGIN:DAYLIGHT
TZOFFSETFROM:+0100
TZOFFSETTO:+0200
TZNAME:CEST
DTSTART:20260329T010000
END:DAYLIGHT
BEGIN:STANDARD
TZOFFSETFROM:+0200
TZOFFSETTO:+0100
TZNAME:CET
DTSTART:20261025T010000
END:STANDARD
BEGIN:DAYLIGHT
TZOFFSETFROM:+0100
TZOFFSETTO:+0200
TZNAME:CEST
DTSTART:20270328T010000
END:DAYLIGHT
BEGIN:STANDARD
TZOFFSETFROM:+0200
TZOFFSETTO:+0100
TZNAME:CET
DTSTART:20271031T010000
END:STANDARD
END:VTIMEZONE
BEGIN:VEVENT
DTSTART;TZID=Europe/Berlin:20260927T100000
DTEND;TZID=Europe/Berlin:20260930T170000
DTSTAMP:20260421T064056
CREATED:20250804T080923Z
LAST-MODIFIED:20260130T070902Z
UID:24183-1790503200-1790787600@stefanieetter.de
SUMMARY:Fusion Art Ideas - Enkaustik\, Struktur und Resin (4-Tage-Workshop)
DESCRIPTION:Enkaustik\, Struktur und Resin: verbunden\, verschmolzen\, verzaubert\nJetzt darfst du aus dem Vollen schöpfen: Der Fusion-Art-Ideas-Workshop ist ideal für dich\, wenn du gern mit zahlreichen verschiedenen Materialien auf einem Malgrund arbeitest (oder arbeiten möchtest). Wenn du Dinge miteinander in Verbindung bringen willst. Weil du das vielleicht auch sonst in deinem Leben tust: verbinden von Stilen\, Materialien\, Farben\, Geschmacksrichtungen – und Menschen. \n \nMixed Media mit Wachs – Enkaustik neu interpretiert\nWenn du das hier liest\, bist du bestimmt Fan von Resin. Und vielleicht auch von Strukturmaterialien. Aber wie sieht es mit Wachsmalerei aus\, auch Enkaustik genannt – hast du davon schon einmal gehört? Enkaustik ist eine Jahrtausende alte Tradition\, viel älter als zum Beispiel die Ölmalerei. \nMit Wachs malen. Was sich im ersten Moment für deine Ohren vielleicht etwas seltsam anhört\, wird klar\, wenn du das Material kennenlernst. Es gibt klares sowie pigmentiertes Wachs. Und dieses Wachs wird erhitzt und dann heiß auf einen Malkörper aufgetragen. Eine spannende Technik\, die dir auch neue Perspektiven in der Mixed-Media-Anwendung erlaubt. \nEnkaustik passt meiner Erfahrung nach ideal zu Resin und zu Strukturmaterialien. Deswegen habe ich diesen Workshop für dich entwickelt. Und natürlich\, weil ich meine Begeisterung über diese Fusion unbedingt weitergeben muss. Für viele neue faszinierende Kunstwerke. \n \nMutig neue Wege in der Kunst gehen\nIch möchte dir ein Angebot machen\, hast du Lust? Entdecke im Fusion-Art-Ideas-Workshop\, was neu für dich ist. Verbinde dieses Neue mit dem\, was du schon kennst und kannst. So kreierst und erlebst du Kunst auf eine völlig andere Weise. \nVielleicht hast du jetzt Zweifel und denkst „Ganz schön viel\, ich weiß nicht\, ob ich mir das zutraue“. Ja\, das ist ganz schön viel – und das ist auch das Tolle daran. Ich führe dich sicher durch alle Materialien aus dem Workshop und zeige dir verschiedene Möglichkeiten auf\, wie du sie anwenden kannst. \nStell dir statt deiner Zweifel also gern vor\, welche außergewöhnlichen Werke du erschaffen wirst – eben weil du aus dem Vollen schöpfen kannst. Und weil du weißt: Alles ist ein Angebot. Du entscheidest\, was davon du annimmst und umsetzt. Es gibt kein richtig oder falsch. Nur aufregende neue Fusion Art Ideas! \nGehst du mit mir die neuen Wege in deiner Kunst? \n \nThemen im Workshop Fusion Art Ideas:\n• Materialverständnis Resin\, Strukturmaterialien und Enkaustikwachs\n• Umgang mit verschiedenen Materialien auf einem Malgrund\n• Materialien übereinander oder nebeneinander auftragen\n• Farbschüttungen und Materialschüttung mit AquaCast\n• Kreieren in der Brush-Technik: Strukturen aus Wachs erzeugen oder vorhandene Strukturen mit Wachs bearbeiten für Effekte wie Eiskristalle\n• Anwenden und Einbinden von Papieren und Sprays\n• Kontraste schaffen zwischen matten und glänzenden Partien auf einer Ebene oder lasierend in Schichten \nDownload der Materialliste für den Kurs.\n  \nVoraussetzungen: Erfahrungen mit dem Medium Resin – entweder aus dem Lust-auf-Resin-Workshop oder vergleichbares Wissen sowie praktische Erfahrung in Bezug auf Resin.
URL:https://stefanieetter.de/workshop/fusion-art-ideas-enkaustik-struktur-und-resin-4-tage-workshop-3/
LOCATION:Etter Art Academy\, Gmünder Str. 65\, Schorndorf\, 73614\, Deutschland
CATEGORIES:Etter Art Academy,Struktur und Resin
ATTACH;FMTTYPE=image/jpeg:https://stefanieetter.de/wp-content/uploads/2023/02/Wachs3.jpg
END:VEVENT
BEGIN:VEVENT
DTSTART;TZID=Europe/Berlin:20261002T093000
DTEND;TZID=Europe/Berlin:20261003T170000
DTSTAMP:20260421T064056
CREATED:20260212T120134Z
LAST-MODIFIED:20260304T131724Z
UID:24894-1790933400-1791046800@stefanieetter.de
SUMMARY:Resin Kunst Handwerk in Perfektion! Schleifen\, polieren und CARBON - Intensiv Workshop
DESCRIPTION:Formenbau\, Design\, Tiefguss\, Schleifen und Polieren – der Intensiv-Workshop für Resin-Kunst und Handwerk\n  \nResin\, Holz\, Carbon. Formenbau\, Schleifen\, Polieren. Mit Matthias Schopf und Stefanie Etter.\n  \nFreu dich auf diesen intensiven Workshop an der Etter Art Academy in Schorndorf. Zwei Tage\, zwei Profis\, zwei Disziplinen. Gemeinsam haben wir Dozenten eine Leidenschaft: Wir lieben\, was wir tun. Und damit stecken wir dich gern an – wenn du uns lässt … \nFür den handwerklichen Part in diesem Workshop zeichnet Matthias Schopf verantwortlich. Den künstlerischen Part bringe ich\, Stefanie Etter\, dir näher. \nWir beide freuen uns auf dich. Und du dich hoffentlich auch auf uns? \n  \nDas Handwerk: \nFormenbau\, Hölzer\, Schleifen und Polieren \n(Dozenten-Fokus: Matthias Schopf)\n  \nFormenbau für Resin-Projekte (Demonstration)\n  \nImmer wieder taucht diese eine Frage auf: Wie baue ich eine Form für meine Resin-Projekte? \nWir erklären dir\, wie und womit du eine Form bauen kannst – Matthias demonstriert es schrittweise und gut nachvollziehbar. \n(Für den Workshop leihen wir dir zum weiteren Arbeiten eine unserer Musterformen. Sie ist 25 x 25 cm groß – und du brauchst sie für dein „Werkstück 2“.) \n  \nAuswahl und Eingießen Hölzer (dein Werkstück)\n  \nDu erfährst\, was du beachten solltest\, wenn du Holzstücke zum Einlegen und Eingießen auswählst. Denn hier geht es später – beim „Werkstück 2“ – um das Arbeiten mit Tiefgussharz. \nDu kannst dich jetzt schon auf tolle Hölzer wie Mooreiche oder Olivenholz freuen. Oder deine eigenen Holzstücke mitbringen. Achte darauf\, dass sie komplett durchgetrocknet sind\, damit du sie mit Resin verarbeiten kannst. \n  \nSchleifen und Polieren von Resin-Oberflächen (das Musterstück)\n  \nWir widmen uns im Intensiv-Workshop außerdem den großen Themen Schleifen und Polieren. \nDu wirst von Matthias nicht nur hören\, was zu beachten ist\, sondern auch selbst Hand anlegen: an einem gemeinsamen Übungsstück (Musterstück). So entwickelst du ein gutes Gefühl für diese letzten Arbeitsschritte an einem Kunstwerk – und machst dich mit den Geräten und Materialien vertraut. \n\nDas Design: \nResin\, Gießen und Verfüllen (Tiefguss)\, Farben\, Sprays\, Schablonen und Effekte \n(Dozenten-Fokus: Stefanie Etter)\n  \nEinführung Resin – welches Kunstharz zum Laminieren und welches für den Tiefguss?\n  \nResin ist ein spannendes\, vielseitiges Medium\, und ich nehme dich mit in meine Welt: \nWelches Resin eignet sich für welche Art von Kunst am besten: Worauf solltest du achten\, wenn du mehrschichtig gießen oder verfüllen willst?  \nWelche gestalterischen Möglichkeiten hast du im Umgang mit Resin? \nWelche Rolle spielen Farben\, und womit kannst du welche Effekte erzeugen? \n  \nWerkstück 1 gestalten und weiterbearbeiten – zum Beispiel eine kleine Tischplatte\n  \nDu gestaltest dein eigenes 40 cm rundes Werkstück\, zum Beispiel als Tischplatte. Die Basis ist eine Holzplatte\, die du mit der reizvollen Kombination aus Resin\, Hölzern und Carbon zum Kunstwerk machst. \nWir kleben\, grundieren\, laminieren und sprayen. Dabei sind einige Schritte optional – und du entscheidest\, ob du eher „basic“ gestaltest oder dich kreativ ausprobierst. \n  \nDas Finish: Du baust eine Form um dieses runde Objekt. Und verfüllst diese Form mit dem richtigen Epoxidharz. \n  \nCarbon in der Kunst?\n  \nVielleicht hast du dich genau das gerade beim Lesen gefragt. Und das könnte hieran liegen: Carbon ist noch nicht so bekannt in der künstlerischen Anwendung. \n  \nDabei eignet sich dieser Hightech-Verbundwerkstoff hervorragend als besonderes und edles Designelement. Wir sprechen im Workshop über verschiedene Ausführungen von Carbon und was genau du damit machen kannst. Sei gespannt! \n  \nWerkstück 2 gestalten – dein kleines Übungs-Quadrat\n  \nDu hast nahezu unendlich viele Möglichkeiten\, die Form mit Resin zu verfüllen und dabei kreativ zu werden … wenn du einige technische Dinge beachtest: \nWie bleiben deine eingesetzten Farbmittel an der Resin-Oberfläche und erzeugen dort faszinierende Effekte? \nWelche Effekte rufen Alkoholtinten\, Acryltinten oder Perlglanzpigmente hervor? \nUnd welche Techniken sind mit Sprays und Schablonen möglich? \n  \nBeim Tiefguss verhalten sich sowohl das Resin als auch die weiteren eingesetzten Materialien anders\, als du es vielleicht vom bisherigen Gestalten mit Kunstharzen kennst. \nWas gleich bleibt: Du wirst mischen\, gießen\, tropfen und sprayen. Du wirst gestalten und erschaffen. Und begeistert strahlen – so wie die Teilnehmerinnen und Teilnehmer aus bisherigen Workshops. \n  \nFormenbau\, Design\, Schleifen und Polieren: im Intensiv-Workshop lernen – zu Hause auf Wunsch-Formate übertragen\n  \nDu erlebst in diesem Workshop den gesamten Prozess vom Bau der Form bis hin zum fertigen Werkstück. Dadurch bist du in der Lage\, zu Hause alles auf deine eigenen Projekte zu übertragen. Vielleicht steht ja als Nächstes ein River Table\, also ein Harztisch an? \n  \nDie Themen\, der Schnell-Überblick für den Intensiv-Workshop:\n  \n\nSkizzieren Workshop-Ablauf\nTheorie Part „Handwerk“\nTheorie Part „Design“\nPraktischer Teil „Runde Tischplatte“ (Werkstück 1):\nHolzplatte grundieren\nCarbon aufbringen (Kohlefaser)\nArbeiten mit Sprays (und Schablonen)\nHolz aufbringen\nErste Resin-Schicht gießen\nForm um Platte bauen\nFarben auswählen für Resin\nOberfläche mit Resin und mehr gestalten (verfüllen)\nPraktischer Teil „Quadrat“ (Werkstück 2):\nArbeitsplatz einrichten\nHolzstücke für Eingussarbeit auswählen\nGeliehene Muster-Form vorbereiten\nHolzstücke eingießen\nMit Resin die geliehene Muster-Form auffüllen\nDabei nach Wahl einfärben oder beispielsweise mit Sprays gestalten\nSchleifen und Polieren: gemeinsames Üben an großer Platte (Musterstück)\nFragen-Antworten-Runde\n\nDownload der Materialliste für den Kurs.\n  \nDauer: zwei Tage jeweils von 9:30 – 17:00 Uhr (je eine Stunde Mittagspause\, nach Absprache) \nTeilnehmer: max. 14 Personen \nVoraussetzungen: keine \nWichtig: Deine beiden Werkstücke müssen über mehrere Tage trocknen. Wir schicken sie dir für eine Versandkostenpauschale gern nach Hause. \n 
URL:https://stefanieetter.de/workshop/resin-kunst-handwerk-in-perfektion-schleifen-polieren-und-carbon-intensiv-workshop/
LOCATION:Etter Art Academy\, Gmünder Str. 65\, Schorndorf\, 73614\, Deutschland
CATEGORIES:Etter Art Academy,Matthias Schopf
ATTACH;FMTTYPE=image/jpeg:https://stefanieetter.de/wp-content/uploads/2020/01/Harztische.jpg
END:VEVENT
END:VCALENDAR