BEGIN:VCALENDAR
VERSION:2.0
PRODID:-//Etter Art Academy - ECPv6.15.18//NONSGML v1.0//EN
CALSCALE:GREGORIAN
METHOD:PUBLISH
X-ORIGINAL-URL:https://stefanieetter.de
X-WR-CALDESC:Veranstaltungen für Etter Art Academy
REFRESH-INTERVAL;VALUE=DURATION:PT1H
X-Robots-Tag:noindex
X-PUBLISHED-TTL:PT1H
BEGIN:VTIMEZONE
TZID:Europe/Berlin
BEGIN:DAYLIGHT
TZOFFSETFROM:+0100
TZOFFSETTO:+0200
TZNAME:CEST
DTSTART:20250330T010000
END:DAYLIGHT
BEGIN:STANDARD
TZOFFSETFROM:+0200
TZOFFSETTO:+0100
TZNAME:CET
DTSTART:20251026T010000
END:STANDARD
BEGIN:DAYLIGHT
TZOFFSETFROM:+0100
TZOFFSETTO:+0200
TZNAME:CEST
DTSTART:20260329T010000
END:DAYLIGHT
BEGIN:STANDARD
TZOFFSETFROM:+0200
TZOFFSETTO:+0100
TZNAME:CET
DTSTART:20261025T010000
END:STANDARD
BEGIN:DAYLIGHT
TZOFFSETFROM:+0100
TZOFFSETTO:+0200
TZNAME:CEST
DTSTART:20270328T010000
END:DAYLIGHT
BEGIN:STANDARD
TZOFFSETFROM:+0200
TZOFFSETTO:+0100
TZNAME:CET
DTSTART:20271031T010000
END:STANDARD
END:VTIMEZONE
BEGIN:VEVENT
DTSTART;TZID=Europe/Berlin:20261020T100000
DTEND;TZID=Europe/Berlin:20261021T163000
DTSTAMP:20260421T065734
CREATED:20250929T084040Z
LAST-MODIFIED:20260113T073037Z
UID:24342-1792490400-1792600200@stefanieetter.de
SUMMARY:Der Lust-auf-Resin-&-mehr-Workshop
DESCRIPTION:Der Lust-auf-Resin-&-mehr-Workshop\nLust aufs Abenteuer Resin? Entdecke unverzichtbare Basics – und spannende Extras (Schablonen\, Mixed Media und sogar noch mehr!) \nDu willst wissen\, was du mit Resin im Bereich bildende Kunst machen kannst? Oder du hast schon Erfahrungen mit Resin – und jetzt Lust auf mehr?\nLust auf Kunst mit Schablonen?\nLust auf Mixed-Media-Kunst?\nLust auf eigene Materialien – weil an ihnen dein Herz hängt?\nLust aufs Weiterentwickeln? Nämlich dich oder eins deiner bestehenden Kunstwerke?\nDann sei unbedingt Teil dieses intensiven Workshops! \nStefanie Etter nimmt dich mit auf eine spannende Reise.\nIn eine Welt\, die mit Resin strahlt und glänzt. In eine Welt\, die sich für weitere Materialien wie zum Beispiel Schablonen und Strukturmedien öffnet.\nIn eine Welt\, die sich für dich und deine Kunst öffnet. \nLust auf Resin. Auf Farbe. Grafische Elemente. Strukturen. Mixed Media. Lust auf Kunst!\nArbeiten mit dem fantastischsten Material der Welt. Schwört Stefanie. Und du wirst sowohl in Theorie als auch in Praxis erfahren und erleben: Ja! \nDas Abenteuer beginnt: Resin und Farben\nDu lernst verschiedene Möglichkeiten kennen\, wie du Resin anwenden kannst. Denn es gibt nicht nur ein Resin – aber das eine richtigen Resin für deinen bestimmten Zweck. Das liegt zum Beispiel an der Viskosität von Kunstharzen. (Wie Epoxidharz ist das ein anderer Name für Resin.)\nRichtig hochwertiges Resin ist von Natur aus glasklar. Zeit also\, Farbe in Spiel zu bringen: einfärben\, Effekte erzeugen\, Farbübergänge einsetzen\, Farbwelten erkunden – oder ist beim Thema Farbe alles erlaubt? Du erfährst alles\, was du in Bezug auf „Resin und Farbe“ wissen solltest. \nDas Abenteuer geht weiter: Resin Mixed Media – Meeresbild\, Schablonen\, eigene Schätze\nSo fantastisch Resin ist: Vielleicht hast du Lust\, mit weiteren Materialien zu arbeiten? Das kannst du. Wenn du möchtest. Stefanie ist riesiger Fan von Mixed Media Art – und du kannst dich darin in diesem Workshop ausprobieren. \nKleine Seesucht (Strukturen)\nSchlägt dein Herz für die Ozeane dieser Welt? Dann kreiere dir deine eigene kleine Seesucht (auch bekannt als: Meeresbild). Mit Sandstrand oder Teneriffastrand. Seesucht bedeutet: Resin und Strukturen. Also: Mixed Media. \nStencil Art (Schablonen)\nReizt dich der Kontrast zwischen Flow und Kontrolle? Dann arbeite mit Resin – und Schablonen! Erst das eine\, dann das andere. Du wirst in diesem Workshop erleben\, wie kontrolliert du mit Schablonen kreieren kannst – und wie frei sich das gleichzeitig anfühlt. Resin\, Schablonen und Sprays … Mixed Media. \nDu (eigene Gegenstände)\nKunst ist persönlich. Nicht nur im Ausdruck\, sondern auch in Bezug auf verwendete Materialien. Besonders persönlich wird sie\, wenn du Dinge einbaust\, die für dich eine besondere Bedeutung haben. Ob das gesammelte Muscheln aus deinen Flitterwochen sind – oder ein Foto deiner menschlichen Schätze: Bring sie mit\, und beziehe sie in deine Kunst mit ein. Und sie wird: Mixed Media. \nIst der Lust-auf-Resin-&-mehr-Workshop das Richtige für dich?\nDu hast noch keine Erfahrung mit Resin? Herzlich willkommen!\nDu hast bereits Erfahrung im Umgang mit Resin? Herzlich willkommen!\nDer Lust-auf-Resin-&-mehr-Workshop steht jedem offen\, der Lust auf Resin & mehr hat. Deswegen heißt er so. \nThemen im Lust-auf-Resin-&-mehr-Workshop:\n\nResin: unterschiedliche Arten und Einsatzmöglichkeiten\nFarben: Resin einfärben\, Effekte erzeugen\nSchablonen: arbeiten auf Resin\nStrukturen: Meeresbild gestalten\nKünstlerisches und mehrschichtiges Gestalten mit Resin und weiteren Materialien (Mixed-Media-Kunst)\nEigene Gegenstände: mitbringen und einbringen in die Werke\nKunst nach vorne bringen: Bilder von zu Hause vor Ort weiterentwickeln\nGeeignete Untergründe für das Arbeiten mit Resin: Im Workshop stehen verschiedene Malgründe wie Holz\, Leinwand\, Aluplatten oder Acrylglas zur Verfügung\nNachhaltiger Umgang mit Resin („Resteverwertung“)\nBildanalyse und Bildbesprechung\nTheoretisches Special: Schleifen und Polieren\n\n  \nZur Anmeldung\n  \n 
URL:https://stefanieetter.de/workshop/der-lust-auf-resin-mehr-workshop/
LOCATION:boesner Unterentfelden\, Suhrenmattstrasse 31\, Unterentfelden\, Aargau\, 5035\, Switzerland
CATEGORIES:Basisworkshop Resin,boesner Unterentfelden,Extern,Stefanie Etter
ATTACH;FMTTYPE=image/jpeg:https://stefanieetter.de/wp-content/uploads/2019/09/ResinBasis2.jpg
ORGANIZER;CN="boesner Unterentfelden":MAILTO:rahmen.unterentfelden@boesner.ch
END:VEVENT
END:VCALENDAR